BEGIN:VCALENDAR
VERSION:2.0
PRODID:-//BPW Switzerland//NONSGML kigkonsult.se iCalcreator 2.16.12//
METHOD:PUBLISH
X-MS-OLK-FORCEINSPECTOROPEN:TRUE
BEGIN:VEVENT
UID:20260422T102445CEST-6382Ul1OsM@BPW Switzerland
DTSTAMP:20260422T082445Z
DESCRIPTION:Dieses Jahr sind es die Kiwanis\, die organisieren und einladen
  in ihr Clublokal «Kessler’s Kulm».\nProgramm:\n- Ab 18.00 Uhr: Eintreffen
  der Club-Members zum Apéro auf der Terrasse des Kessler’s Kulm Davos Wolf
 gang. Die Bekleidung sollte angepasst sein\, denn dieser Apero findet bei 
 jeder Witterung draussen statt. Offizielle Begrüssung der Clubmembers sowi
 e des Referenten Michael Habegger\; Angehöriger a.D. Interventions-Einheit
  Skorpions der Stadtpolizei Zürich\, Mitglied der Geschäftsleitung Meini S
 port & Mode AG Laax sowie des Repräsentanten Serafin Beer\; Präsident «KiP
 aKi» Region 1\, Kiwanis Freund aus der Bündner Herrschaft\, Doktor der Neu
 rologie Klinik Valens\n- 19.00 Uhr: Es wird in Kesslers’s Genussräumen zu 
 Tisch gebeten\, wo ein köstliches Dreigänge-Menü wartet. \n- 19.15 Uhr: Se
 rafin Beer\, Mitbegründer von «KiPaKI»\, stellt das regional aktive Sozial
 -Projekt vor\n- 21.00 Uhr: Michael Habegger gewährt Einblick in die Tätigk
 eit der IE Skorpions der Stadtpolizei Zürich\n- nach dem Referat klingt de
 r Abend in gemütlich-geselliger Stimmung aus\n\nBitte bis Freitag\, 20. Ok
 tober bei Lydia anmelden. Gleichzeitig bitte auch den Betrag von 72 Franke
 n auf das Konto CH53 8080 8003 7978 9204 5 von BPW Davos Klosters einzahle
 n. Lydia übernimmt die Abrechnung mit den organisierenden Kiwanis.\nBei de
 r Anmeldung auch gleich die Menuwahl angeben. Ebenso Intoleranzen. \nIm Pr
 eis von 72 Franken ist Folgendes enthalten:\n- Apéro mit Glühmost mit oder
  ohne Alkohol und Birabrot mit oder ohne Butter\n- Drei-Gang Menü mit Flei
 sch:\n        Gemüsebouillon mit Flädli\n        Zarte Kalbsschnitzel mit 
 Rohschinken und Salbei an Marsalajus mit Weisswein- Risotto und buntem Gem
 üse\n        Cassata Wolfgang\n\nalternativ gibt es vegetarisch:\n        
 Gemüsebouillon mit Flädli\n        Zucchettipiccata an Weisswein-Risotto m
 it Tomatensauce und buntem Gemüse\n        Cassata Wolfgang\n\nAls Tischge
 tränk ist «Wolfgang UrQuell» vorgesehen. Mineralwasser / Softgetränke / We
 in / Café / Spirituosen bezahlen die Teilnehmerinnen selbst\n\nEinbegriffe
 n ist auch ein Beitrag an die Sozialkasse Kiwanis Club Davos Klosters\n\n 
DTSTART:20231106T180000
DTEND:20231106T223000
ORGANIZER:MAILTO:BPW Switzerland <davos@bpw.ch>
SUMMARY:5er-Treffen
END:VEVENT
END:VCALENDAR
