BEGIN:VCALENDAR
VERSION:2.0
PRODID:-//BPW Switzerland//NONSGML kigkonsult.se iCalcreator 2.16.12//
METHOD:PUBLISH
X-MS-OLK-FORCEINSPECTOROPEN:TRUE
BEGIN:VEVENT
UID:20260422T101356CEST-939626VsKN@BPW Switzerland
DTSTAMP:20260422T081356Z
DESCRIPTION:An der Delegiertenversammlung Juni 2023 ist der Workshop 'Pimp 
 your LinkedIn' auf grosses Interesse gestossen. Deshalb führen wir ihn noc
 hmals online für alle Mitglieder und registrierten Interessentinnen durch.
 \n\nDer Workshop findet online am Mittwoch\, den 18. Oktober von 17:00 - 1
 8:00 Uhr*) statt und wird wie folgt gestaltet sein:\n\n*) Hinweis: Wir hab
 en derzeit ein IT-Website-Problem\, was bedeutet\, dass es sein kann\, das
 s auf den jeweiligen Club-Websites im unteren Veranstaltungs-Abschnitt die
  Uhrzeit 15:00 - 16:00 Uhr abgebildet ist. Der Online-Workshop findet aber
  von 17:00 - 18:00 Uhr statt. \n\n\n	Workshop Teil 1: Mehr Visibilität für 
 dein Profil\n	Workshop Teil 2: Tipps & Tricks für mehr BPW Content auf Link
 edIn (mit Canva)\n\n\nDu hast noch kein LinkedIn Profil?\nDann erstelle de
 in erstes Profil noch vor der Online-Veranstaltung\, damit du darin direkt
  Anpassungen während dem Workshop durchführen kannst.\n\nDer Workshop wird
  von BPW Club Engadina auf Deutsch via Zoom durchgeführt und ist kostenlos
  für Mitglieder und registrierte Interessentinnen. \n\n \nHier geht's zur 
 Zoom-Registrierung.    \n
DTSTART:20231018T170000
DTEND:20231018T180000
ORGANIZER:MAILTO:BPW Switzerland <davos@bpw.ch>
SUMMARY:Pimp your LinkedIn Online Workshop
END:VEVENT
END:VCALENDAR
