BEGIN:VCALENDAR
VERSION:2.0
PRODID:-//BPW Switzerland//NONSGML kigkonsult.se iCalcreator 2.16.12//
METHOD:PUBLISH
X-MS-OLK-FORCEINSPECTOROPEN:TRUE
BEGIN:VEVENT
UID:20260422T101508CEST-9373Rej95K@BPW Switzerland
DTSTAMP:20260422T081508Z
DESCRIPTION:EIN LIEDERABEND gegen Gewalt an Frauen und Mädchen\n\nEnde Nove
 mber bis Mitte Dezember findet schweizweit die Aktion „Stopp Gewalt gegen 
 Frauen“ statt. In diese Zeit fällt auch der Internationale Orange Day\, an
  dem verschiedene Gebäude als Mahnzeichen gegen die Gewalt an Frauen orang
 e beleuchtet werden. In der orange beleuchteten Kirche St. Johann singt An
 nemarie Pfahler Lieder\, die sich mit Gewalt an Frauen und Mädchen befasse
 n. Sie wird dabei von Pianist Malte Schäfer begleitet. Besonderes Augenmer
 k gilt an diesem Abend den Liedern\, die diese Gewalt verharmlosen oder be
 schönigen. Denn auch heute noch ist die Aufführung solcher Lieder ohne ko
 ntextuelle Aufarbeitung gesellschaftlich akzeptiert. In Zusammenarbeit mit
  dem Frauenhaus Graubünden werden die Liedtexte eingeordnet und mit Erfah
 rungen in der Arbeit gegen Gewalt an Frauen und Mädchen erklärt. Das Konze
 rt und die Ausführungen sollen dazu anregen\, sich einzulassen auf eine n
 icht alltägliche Form der Auseinandersetzung mit dem Thema\, das nicht ein
 fach ist und das in unterschiedlichsten Formen daher kommt. Der abschliess
 ende Apéro lädt ein\, sich über seine eigenen Eindrücke auszutauschen od
 er einfach den Abend bei einem Glas ausklingen zu lassen.\n\nKonzertkarten
  für CHF 35 sind an der Abendkasse erhältlich.\n\nEine Aktion des Frauen 
 Serviceclubs Soroptimist Davos Prättigau. «Bewusst machen. Stellung nehmen
 . Handeln.» ist die Devise von Soroptimist International! \nPro Ticket geh
 en CHF 30 an das Frauenhaus Graubünden zugunsten ihrer Arbeit mit von häus
 licher Gewalt betroffenen Kindern/Jugendlichen.\n
DTSTART:20231130T080000
DTEND:20231130T190000
ORGANIZER:MAILTO:BPW Switzerland <davos@bpw.ch>
SUMMARY:Benefizkonzert
END:VEVENT
END:VCALENDAR
