BEGIN:VCALENDAR
VERSION:2.0
PRODID:-//BPW Switzerland//NONSGML kigkonsult.se iCalcreator 2.16.12//
METHOD:PUBLISH
X-MS-OLK-FORCEINSPECTOROPEN:TRUE
BEGIN:VEVENT
UID:20260422T101524CEST-8778iZgLRx@BPW Switzerland
DTSTAMP:20260422T081524Z
DESCRIPTION:\nZu Beginn des Jahres 2024 laden wir euch herzlich zur Schulun
 g für Vorstandsmitglieder ein: Am 27. Januar 2024 von 09.30 Uhr bis 13.00 
 Uhr. \n\nWichtig zu wissen\n\nDie Schulung richtet sich an alle zukünftige
 n oder bereits gewählten Vorstandsmitglieder aller BPW Clubs in der Schwei
 z.\n\nDie Schulung findet dieses Jahr wieder in Person statt\, um uns alle
 n die Gelegenheit zu geben\, Themen direkt zu diskutieren und uns zu verne
 tzen.\nTreffpunkt ist um 09.30 Uhr in der Geschäftsstelle von BPW Switzerl
 and\, Beginn der Schulung ist um 10 Uhr. Die Adresse lautet: Länggassstras
 se 10\, 3012 Bern \n\nDie Themen werden unter anderem sein: Ziele und Wert
 e von BPW\, Jahresprogramm 2024\, ZV - Geschäftsstelle - Clubs: Wo liegen 
 welche Zuständigkeiten?\, Equal Pay Day 2024\, Überblick über die Projekte
  von BPW Switzerland\, Finanzen\, Social Media: Wie nutzen wir diese für u
 ns?\n\nDie Schulung endet um 13 Uhr. Anschliessend gibt es einen kleinen I
 mbiss und weitere Möglichkeiten\, sich auszutauschen und Fragen zu stellen
 .\nWenn im Vorfeld konkrete Fragen oder Themenwünsche auftauchen\, bitten 
 wir euch\, uns diese per Mail an info@bpw.ch zukommen zu lassen.\n\nWer si
 ch gerne nur online dazuschalten möchte\, kann dies gerne tun und in der A
 nmeldung vermerken. Bei einer Teilnahme via Zoom kann die Schulung jedoch 
 nur als Zuhörer:in verfolgt werden\; eine aktive Teilnahme ist ausschliess
 lich vor Ort möglich. Der entsprechende Zoom-Link wird nach der Anmeldung 
 verschickt.\n\nAls mehrsprachiger Verband werden wir uns - wie immer - seh
 r bemühen\, allen unseren Verbandssprachen gerecht zu werden. Für die Teil
 nahme an der Schulung sind Deutschkenntnisse (Hörverstehen) dennoch sehr v
 on Vorteil. Vielen Dank für euer Verständnis!\nWir bitten um Anmeldung bis
  zum 21. Januar 2024.\n\nWir freuen uns auf einen regen Austausch mit euch
  und wünschen euch allen auf diesem Weg nochmals einen guten Start in ein 
 frohes und gesundes neues Jahr!\n\n
DTSTART:20240127T093000
DTEND:20240127T130000
LOCATION:Geschäftsstelle BPW Switzerland
ORGANIZER:MAILTO:BPW Switzerland <davos@bpw.ch>
SUMMARY:Schulung für zukünftige Club-Vorstandsmitglieder
END:VEVENT
END:VCALENDAR
