BEGIN:VCALENDAR
VERSION:2.0
PRODID:-//BPW Switzerland//NONSGML kigkonsult.se iCalcreator 2.16.12//
METHOD:PUBLISH
X-MS-OLK-FORCEINSPECTOROPEN:TRUE
BEGIN:VEVENT
UID:20260422T101229CEST-9463sE7nCc@BPW Switzerland
DTSTAMP:20260422T081229Z
DESCRIPTION:\nThe BPW Europe working group 'Learning for Leadership' of hig
 hly experienced international trainers invite BPW and non-BPW members to t
 he 6th round of specially developed digital leadership training for women 
 only. Join the BPW Leadership Training and find answers to your questions\
 , develop your personal career plan and go on your way as a confident fema
 le leader!\n\nThe training is organized in 3 blocks and includes the 6 Ele
 ments of Leadership:\n\n\n	Self-Awareness\,\n	Vision\,\n	Drive\,\n	Control\,\n
 	Communiation\,\n	Situational Awareness.\n\n  The training is in English.\n
 \n\nFind the link to the registration form here\n\n\nWhat does this worksh
 op offer?\n\n\n	\n	Safe space to experiment different methodology & develop 
 leadership skills\n	\n	\n	Intimate\, small learning groups\n	\n	\n	Training by e
 xperienced women for other women\n	\n	\n	Intensive exchange in group work\n	\n
 	\n	Work in a tandem on your leadership journey\n	\n	\n	Networking and best pra
 ctice sharing\n	\n	\n	​International group of participants and trainers\n	\n	\n
 	Excellent hand-out with links & further reading\n	\n	\n	Different backgrounds
  & personalities of trainers guarantee that different perspectives & depth
 s of subjects are offered.\n	\n\n\nIs this workshop for me?\n\nIt is approp
 riate for women in leadership positions\, business owners\, entrepreneurs\
 , startup founders and ambitious women who are ready to take the next step
  in their professional career. Are you willing to take the risk?\n\nPROGRA
 M\nFriday\, 16.02.2024\n12.30h – 17.00h (CET)\nWelcome and Introduction\nB
 lock 1: Self-Awareness\; Vision\n\nFriday\, 23.02.2024\n12.30h – 17.00h (C
 ET)\nBlock 2: Drive\, Control\n\nFriday\, 01.03.2024\n12.30h - 17.00h (CET
 )\nBlock 3: Communication\, Situational Awareness\n\nEnd of the training\n
 \nCosts:\nThe total amount of 270 EURO (BPW Members) and 300 EURO (BPW Non
 -members) includes also a comprehensive digital workbook.\n\nScholarships 
 for Young BPW:\nBPW Europe will offer scholarships for Young BPW members. 
 Nomination process will start in January 2024. For more information\, plea
 se contact Young BPW Representative Sheerah Kim (sheerah.kim@bpw.ch).\n \n
 \n
DTSTART:20240216T123000
DTEND:20240216T170000
LOCATION:Online via Zoom
ORGANIZER:MAILTO:BPW Switzerland <davos@bpw.ch>
SUMMARY:Leadership Training for Women: Be a Better Leader!
END:VEVENT
END:VCALENDAR
