BEGIN:VCALENDAR
VERSION:2.0
PRODID:-//BPW Switzerland//NONSGML kigkonsult.se iCalcreator 2.16.12//
METHOD:PUBLISH
X-MS-OLK-FORCEINSPECTOROPEN:TRUE
BEGIN:VEVENT
UID:20260422T101315CEST-6285EZBxce@BPW Switzerland
DTSTAMP:20260422T081315Z
DESCRIPTION:\nAm Samstag\, den 17. Februar 2024 ist Equal Pay Day in der Sc
 hweiz.\n\nBis zu diesem Tag arbeiten wir Frauen in der Schweiz immer noch 
 ohne Entgelt. Daher ist es so wichtig\, dass wir weiterhin alle dafür akti
 v und laut widersprechen und uns einsetzen\, damit sich das eines Tages än
 dert: für alle arbeitenden Frauen aber auch für unsere Nachkommen. Rund um
  diesen Tag finden innerhalb unserer knapp vierzig BPW Clubs viele aktions
 reiche und kreative Anlässe statt – einfach den Veranstaltungskalender sei
 ner Region/seines Clubs im Auge behalten und mitwirken.\n\nDieses Jahr ste
 llen wir - wie schon 2022 - den Equal Pay Day unter das Schwerpunktthema '
 Gender Pension Gap'\, der sich vor allem in der 2. Säule manifestiert und 
 durch die anstehende Abstimmung über die Rentenreform bestimmt wird. BPW S
 witzerland werden zur laufenden Diskussion beitragen und dabei den verschi
 edenen Standpunkten Rechnung tragen. Wir rufen alle BPW auf Antworten auf 
 nachstehende Fragen gemeinsam zu finden:\n\nWas hat der Gender Pension Gap
  mit dem Equal Pay Day zu tun? Welches sind die strukturellen Probleme\, d
 ie dem Gender Pension Gap zugrunde liegen? Welche Aspekte sind wichtig in 
 der anstehenden BVG-Reform. Was kann ich selbst tun\, um meine Aussichten 
 auf eine existenzsichernde Rente zu verbessern? Welche Risiken muss ich da
 bei berücksichtigen?\n \n\n\n
DTSTART:20240217T000000
DTEND:20240217T235900
LOCATION:Online
ORGANIZER:MAILTO:BPW Switzerland <davos@bpw.ch>
SUMMARY:EPD 2024:  'Gender Pension Gap'
END:VEVENT
END:VCALENDAR
