BEGIN:VCALENDAR
VERSION:2.0
PRODID:-//BPW Switzerland//NONSGML kigkonsult.se iCalcreator 2.16.12//
METHOD:PUBLISH
X-MS-OLK-FORCEINSPECTOROPEN:TRUE
BEGIN:VEVENT
UID:20260422T112645CEST-4346zbOlja@BPW Switzerland
DTSTAMP:20260422T092645Z
DESCRIPTION:\nEinladung zur BPW Switzerland Delegiertenversammlung \nin Thu
 n am 14. und 15. Mai 2011\n \n\n\nSamstag\, 14. Mai 2011\n \n10:30:  Für a
 lle bereits am Vorabend Angereisten oder Frühaufsteherinnen bieten wir \nv
 or der DV drei parallele Workshops an\, in denen wir neue\, \nfür BPW inte
 ressante Themen diskutieren und erarbeiten wollen:\n\nMediation und mediat
 ive Kompetenz im BPW\nGezielte Verbesserung des Konfliktmanagements\n(Doro
 thy Rosenberger\, Past President Club Zug)\n\nVorstellung Erfolgsteams\nSo
  erreiche ich mein persönliches Ziel mit Unterstützung eines Teams\n(Sabin
 e Schmelzer\, Zentralpräsidentin BPW Switzerland)\n\nEqual Pay Day - BPW t
 ritt in Dialog mit Unternehmen\nNach der grossen Briefaktion an die grösst
 en 3000 Unternehmen in der Schweiz \ngilt es\, diesen Schub zu nutzen: \nW
 ie treten wir mit den ange­schriebenen Unternehmen in direkten Kontakt\, 
 \ndamit sie effektiv etwas gegen die Lohnungleich­heit unternehmen?\n(Moni
 que Ryser\, Vize-Präsidentin BPW Switzer­land)\n \n \n\n\n\n\n\n \n\n    
 \n        \n            \n            Programm\n            \n            
 \n             \n            \n            \n             \n            \n
             \n            Partnerprogramm\n            \n        \n       
  \n            \n             \n            \n            \n             
 \n            \n            \n             \n            \n            \n 
             \n            \n        \n        \n            \n            
 11:00\n            \n            \n            Eintreffen der Teilnehmerin
 nen\n            \n            \n            11:00\n            \n        
     \n            Eintreffen der Gäste\n            \n        \n        \n
             \n            11:30\n            \n            \n            S
 tehlunch\n            \n            \n            11:15\n            \n   
          \n            Abfahrt mit Heuwagen\n            \n        \n     
    \n            \n            13:00\n            \n            \n        
     Beginn der ordentlichen DV\n            \n            \n            11
 :45\n            \n            \n            Besichtigung der \n          
   wieder aktiven Ditligmühle\n            \n        \n        \n          
   \n             \n            \n            \n             \n            
 \n            \n            13:30\n            \n            \n           
  Mittagessen im Felde\n            \n        \n        \n            \n   
           \n            \n            \n             \n            \n     
        \n            15:30\n            \n            \n            Besuch
  der historischen \n            Kirche Amsoldingen\n            \n        
 \n        \n            \n            17:00\n            \n            \n 
            Ende der DV\n            \n            \n            16:45 \n  
           \n            \n            Rückkehr Hotel Seepark\n            
 \n        \n        \n            \n             \n            \n         
    \n             \n            \n            \n             \n           
  \n            \n             \n            \n        \n    \n\n\n18:30   
       Apéro\n19:00         Begrüssung im Namen der Stadt Thun durch\n     
             Ursula Haller (Gemeinderätin Stadt Thun)\n19:30         Jeanni
 ne Pilloud\n                 (Leiterin Personenverkehr SBB)\n20:00        
  Jubiläums-Dinner\n                 60 Jahre BPW Club Thun\n              
                                         \n \n\n \nSonntag\, 15. Mai 2011\n
  \nSonntagsprogramm\n \n\n08:00         Abfahrt der Flyerfahrer*\n09:00   
       Besammlung / Abfahrt Bus\n10:00         Vortrag zum Tropenhaus Fruti
 gen**\nDas Tropenhaus bietet eine spannende \nKombinationaus nachhaltig an
 gebauter \nexotischer Pflanzenwelt\, Aquakultur \nund anschaulicher Wissen
 vermittlung \n                 mitten in der Bergwelt.\n10:30         Frei
 e Besichtigung Tropenhaus Frutigen\n11:30         Referat von Daniela Merz
 \n                 (CEO Dok Gruppe AG\, Stiftung für Arbeit)\n12:30       
   Apéro / Lunch\n14:00         Besammlung Flyer\n                 Besammlu
 ng Bus\n15:30         Ende der Veranstaltung\n\n\n \n* Flyer Hin- und Rück
 fahrt: Anmeldung bis 30. April 2011 \n(Flyer = Elektrobike) \n** im Tropen
 haus herrschen 30°C\n \n \n\n \nInformationen\n\nOrt Congress Hotel Seepar
 k in Thun\nAnmeldung online auf www.bpw.ch\nTenue tagsüber sportlich\, ele
 gant\nTenue Abend festlich\nTenue Abend sportlich (geeignete Velobekleidun
 g)\, Rucksack für persönliche \nGegenstände mitnehmen\, Helme sind vorhand
 en\n\n\n\n\n \nHotels / Übernachtungen  \nHotels in Thun:\n\n\n    \n     
    \n            \n            Hotel Seepark\n            \n            \n
              \n            \n            \n            Hotel   Freienhof\n
             \n        \n        \n            \n            Tel. 033 226 1
 2 00\n            \n            \n             \n            \n           
  \n            Tel. 033 227 50 50\n            \n        \n        \n     
        \n            www.seepark.ch\n            \n            \n         
     \n            \n            \n            www.freienhof.ch\n          
   \n        \n        \n            \n             \n            \n       
      \n             \n            \n            \n             \n         
    \n        \n        \n            \n            Hotel Holiday\n        
     \n            \n             \n            \n            \n           
  Hotel Krone\n            \n        \n        \n            \n            
 Tel. 033 336 57 04\n            \n            \n             \n           
  \n            \n            Tel. 033 227 88 88\n            \n        \n 
        \n            \n            www.holidaythun.ch\n            \n     
        \n             \n            \n            \n            www.krone-
 thun.ch\n            \n        \n        \n            \n             \n  
           \n            \n             \n            \n            \n     
         \n            \n        \n        \n            \n            Hote
 l Alpha\n            \n            \n             \n            \n        
     \n             \n            \n        \n        \n            \n     
        Tel. 033 334 73 47\n            \n            \n             \n    
         \n            \n             \n            \n        \n        \n 
            \n            www.alpha-thun.ch\n            \n            \n  
            \n            \n            \n             \n            \n    
     \n    \n\n\n\nDas Hotel muss selber reserviert werden. \nBitte beziehe
 n Sie sich bei der Reservation auf BPW.\n\n\n\n\n \n \nPreise / Anmeldung 
                                                                         \n
 \n    \n        \n            \n             \n            \n            
 \n             \n            \n            \n            Frühbucherpreis\n
             \n            \n            Normalpreis\n            \n       
  \n        \n            \n             \n            \n            \n    
          \n            \n            \n            bis 21.04.2011\n       
      \n            \n            ab 22.04.2011\n            \n        \n  
       \n            \n            Mitglieder\n            \n            \n
              \n            \n            \n             \n            \n  
           \n             \n            \n        \n        \n            
 \n            Nur DV ohne Lunch\n            \n            \n            C
 HF\n            \n            \n            gratis\n            \n        
     \n            gratis\n            \n        \n        \n            \n
             Nur DV\, mit Lunch\n            \n            \n            CH
 F\n            \n            \n            60.-\n            \n           
  \n            90.-\n            \n        \n        \n            \n     
        DV und Jubiläumsparty\n            \n            \n            CHF
 \n            \n            \n            140.-\n            \n           
  \n            170.-\n            \n        \n        \n            \n    
         Gesamte Veranstaltung\n            \n            \n             \n
             \n            \n             \n            \n            \n   
           \n            \n        \n        \n            \n            (D
 V\, Jubiläumsparty und \n            \n            \n             \n      
       \n            \n             \n            \n            \n         
     \n            \n        \n        \n            \n            Sonntags
 programm)\n            \n            \n            CHF\n            \n    
         \n            190.-\n            \n            \n            220.-
 \n            \n        \n        \n            \n            Sonntagsprog
 ramm\n            \n            \n            CHF\n            \n         
    \n            60.-\n            \n            \n            90.-\n     
        \n        \n        \n            \n             \n            \n  
           \n             \n            \n            \n             \n    
         \n            \n             \n            \n        \n        \n 
            \n            Partner\n            \n            \n            
  \n            \n            \n             \n            \n            \n
              \n            \n        \n        \n            \n           
  Partnerprogramm Samstag\n            \n            \n            CHF\n   
          \n            \n            60.-\n            \n            \n   
          90.-\n            \n        \n        \n            \n           
  Partnerprogramm Samstag \n            \n            \n             \n    
         \n            \n             \n            \n            \n       
       \n            \n        \n        \n            \n            und Ju
 biläumsparty\n            \n            \n            CHF\n            \n 
            \n            140.-\n            \n            \n            17
 0.-\n            \n        \n        \n            \n            Gesamte V
 eranstaltung (Partner-\n            \n            \n             \n       
      \n            \n             \n            \n            \n          
    \n            \n        \n        \n            \n            programm 
 Samstag\, Jubiläums-\n            \n            \n             \n         
    \n            \n             \n            \n            \n            
  \n            \n        \n        \n            \n            party  und 
   Sonntagsprogramm)\n            \n            \n            CHF\n        
     \n            \n            190.-\n            \n            \n       
      220.-\n            \n        \n        \n            \n            So
 nntagsprogramm\n            \n            \n            CHF\n            
 \n            \n            60.-\n            \n            \n            
 90.-\n            \n        \n    \n\n\n \nSimultanübersetzung bei genügen
 der Beteiligung\nWenn sich mindestens 10 Mitglieder aus einem Sprachgebiet
  (Französisch\,\nItalienisch\, Englisch) anmelden\, wird die Delegierten-V
 ersammlung in die\nentsprechende Sprache simultan übersetzt.\n\n\n\n\nDown
 loads\nEinladung zum Downloaden\nZum Download der Traktandenliste und der 
 Sitzungsunterlagen\n \nAnmeldelinks\n\nOnline anmelden über www.bpw.ch\nBP
 W Klosters Davos:\nBitte trage Deine Teilnahme auch hier auf unserem Doodl
 e ein. Danke.\n\n\n\n\nFür die (kostenlose) Teilnahme an den Workshops \ni
 st online ein Anmeldepunkt vorgegeben!\n \nAmmeldungen sind verbindlich! -
  Bei Abmeldungen vor dem 5. Mai 2011 \nwird eine Gebühr von CHF 30.- fälli
 g\; bei Abmeldung ab dem 6. Mai 2011 \n(oder fehlender Abmeldung) wird die
  gesamte Teilnehmergebühr fällig.\n \nBPW Switzerland\nSchönbühlstrasse 10
 \n8032 Zürich\nTelefon 044 948 23 20\nFax 044 256 70 80\nE-Mail sekretaria
 t@bpw.ch
DTSTART:20110514T100000
DTEND:20110515T120000
LOCATION:Thun
ORGANIZER:MAILTO:BPW Switzerland <davos@bpw.ch>
SUMMARY:BPW Switzerland Delegiertenversammlung
END:VEVENT
END:VCALENDAR
