BEGIN:VCALENDAR
VERSION:2.0
PRODID:-//BPW Switzerland//NONSGML kigkonsult.se iCalcreator 2.16.12//
METHOD:PUBLISH
X-MS-OLK-FORCEINSPECTOROPEN:TRUE
BEGIN:VEVENT
UID:20260422T131141CEST-4640sps0cO@BPW Switzerland
DTSTAMP:20260422T111141Z
DESCRIPTION:\nDACH-Tagung 2024: Das Programm ist da!\n \n\nVor zwei Jahren 
 hat BPW Switzerland die letzte DACH-Konferenz in St. Gallen erfolgreiche o
 rganisiert und durchgeführt. Spannende Begegnungen und bereichernde Vorträ
 ge haben wir zusammen erlebt.\n\nVom 20. und 22. September 2024 findet die
  nächste BPW DACH-Tagung in Ulm in Deutschland statt. Unter dem Motto „Ver
 trauen - Verbindung - Vielfalt' dürfen wir sicherlich wieder auf ein abwec
 hslungsreiches Rahmenprogramm mit inspirierenden Key Notes und Workshops g
 espannt sein.\n\nDie Veranstaltung wird von BPW Germany organisiert und ri
 chtet sich an die BPW von Deutschland\, Österreich und die Schweiz.\n\nDas
  gesamte Programm und alle Informationen dazu finden sich jetzt hier \n \n
 \nInformationen zum Partner:innenprogramm und Übernachtungsmöglichkeiten i
 n Ulm\n\n\nDer Ticketverkauf ist ab dem 5. Juli 2024 zu Early-Bird-Preisen
  möglich. Danach gelten reguläre Preise.\n \n\n
DTSTART:20240920T000000
DTEND:20240922T235900
LOCATION:Ulm
ORGANIZER:MAILTO:BPW Switzerland <davos@bpw.ch>
SUMMARY:DACH-Tagung 2024
END:VEVENT
END:VCALENDAR
