BEGIN:VCALENDAR
VERSION:2.0
PRODID:-//BPW Switzerland//NONSGML kigkonsult.se iCalcreator 2.16.12//
METHOD:PUBLISH
X-MS-OLK-FORCEINSPECTOROPEN:TRUE
BEGIN:VEVENT
UID:20260422T102400CEST-35671NEwni@BPW Switzerland
DTSTAMP:20260422T082400Z
DESCRIPTION:Die Region Prättigau / Davos bietet im Januar in der Aula des B
 ündaschulhauses Davos Dorf eine Veranstaltung zur Cybersicherheit an: \n\n
 In der heutigen vernetzten digitalen Welt sind Angriffe aus dem Cyberspace
  eine reale Bedrohung. Cyber Security ist der Schutz vor diesen digitalen 
 Gefahren. Unsere ExpertInnen werden Ihnen in einer moderierten Veranstaltu
 ng einen Überblick über aktuelle Themen geben. Dabei werden auch die Auswi
 rkungen des neuen Datenschutzgesetzes beleuchtet. Sie erfahren\, warum ein
 e Cyber Security-Strategie von grosser Bedeutung ist und vor allem\, wie m
 an im Falle eines Angriffs reagieren sollte.\n\nDiese Veranstaltung richte
 t sich an KMU und Privatpersonen\, die sich für das Thema Cyber Security i
 nteressieren. Sie sollen für potenzielle digitale Bedrohungen sensibilisie
 rt werden.\n\nSIND SIE DIGITAL FIT?\nVorausschauend Ihre Unternehmung sich
 ern und weiterentwickeln. JETZT ANMELDEN!\n\nModeration –  Rainer Kessler 
 LL.M. M.B.A.\, Dozent FHGR & Cyber-Security Experte\n\nCyber Security: Ges
 chichte\, Herausforderungen\, Möglichkeiten\nDr. Patrick Schaller\, ETH Zü
 rich\, Swiss Support Center for Cyber Security (SSCC)\n\nDatenschutz - War
 um wir uns wirklich mit dem Thema beschäftigen sollten\nMonika Stucki\, Do
 zentin FHGR und Lead Security Consultant bei Redguard AG\n\nCyber Security
  Mythen aufgeklärt und wie man sich trotzdem schützen kann\nProf. Dr. Ingo
  Barkow\, FHGR Institutsleiter Schweizerisches Institut für Informationswi
 ssenschaften (SII)\n\nCybercrime Dienste der Kantonspolizei Graubünden\nCh
 ristoph Scherer\, Leiter Spezialdienst Cybercrime der Kantonspolizei Graub
 ünden\n\n 
DTSTART:20240125T190000
DTEND:20240125T203000
ORGANIZER:MAILTO:BPW Switzerland <davos@bpw.ch>
SUMMARY:Cyber Security für KMU und Privatpersonen
END:VEVENT
END:VCALENDAR
