BEGIN:VCALENDAR
VERSION:2.0
PRODID:-//BPW Switzerland//NONSGML kigkonsult.se iCalcreator 2.16.12//
METHOD:PUBLISH
X-MS-OLK-FORCEINSPECTOROPEN:TRUE
BEGIN:VEVENT
UID:20260422T131208CEST-1352VcSCxA@BPW Switzerland
DTSTAMP:20260422T111208Z
DESCRIPTION:\n«Frauen als Protagonistinnen der Zukunft»\n\nBPW Club Ticino 
 und BPW Switzerland laden herzlich nach Locarno ein zur Herbstkonferenz 20
 24!\n\nHier geht es zur Einladung und zum Programm.\n\nVeranstaltungsort\n
 \nHOTEL BELVEDERE LOCARNO\n\nVia ai Monti\, 44\n6600 Locarno - Ticino\n \n
 \nProgramm vom Samstag\, 19. Oktober 2024\n\nAb 08:45 Uhr                 
   Registrierung und Willkommenskaffee\n\n09:45 Uhr bis 12:00 Uhr: Herbstko
 nferenz BPW Switzerland\n\n12:00 Uhr bis 14:00 Uhr: Networking Lunch\n\n14
 :00 Uhr bis 14:30 Uhr: Gespräch moderiert durch Elettra Fiumi\, mit Nadia 
 Dresti und Klaudia Reynicke\, Regisseurin und Drehbuchautorin\, deren Film
  'Reinas' die offizielle Schweizer Eingabe für die Oscars 2025 ist.\n\n14:
 30 Uhr bis 14:35 Uhr: „Unsere Region„  präsentiert von Ticino Convention B
 ureau.\n\n14:45 Uhr bis 16:30 Uhr: Optionales Kulturprogramm\n\n\n	\n	VORSCH
 LAG 1: Besuch und Führung der Art Foundation Ghisla (max. 30 Personen)\n	\n
 	\n	VORSCHLAG 2: Entdeckungs Tour der Stadt Locarno (zu Fuss)\n	\n\n\n18:30 U
 hr bis 20:00 Uhr: Marché Ticino: einheimische Hersteller der Eno-Gastronom
 ie präsentieren lokale Produke zur Verkostung.\n\n20:00 Uhr: Galadinner\n
 \nWichtig zu wissen\n\n\n	\n	Das Kulturprogramm vom Samstag-Nachmittag kann 
 im Anmeldungsprozess als Ticketoption dazugebucht werden.\n	\n	\n	Für Partner
 :innen und interessierte Begleitpersonen findet am Vormittag eine geführte
  Tour durch Locarno statt. Auch am Kulturprogramm vom Samstagnachmittag\, 
 sowie am Galadinner abends sind Partner:innen herzlich willkommen.\n	\n	\n	Wi
 chtig: Sowohl beim Partner:innenprogramm wie auch beim Kulturprogramm am N
 achmittag ist der Lunch NICHT inbegriffen.\n	\n\n\nUnterkunft\n\nFür alle\,
  die gerne in Locarno übernachten möchten\, sind im Hotel Belvedere Locarn
 o\, sowie im Hotel City Locarno Preise zu Vorzugspreisen reserviert. Alle 
 Informationen dazu finden sich in der Einladung.\n\nAnmeldung\n\nDie Anmel
 dung ist geschlossen. Wir sehen uns in Locarno!\n\n
DTSTART:20241019T000000
DTEND:20241019T235900
LOCATION:Hotel Belvedere
ORGANIZER:MAILTO:BPW Switzerland <davos@bpw.ch>
SUMMARY:Herbstkonferenz BPW Switzerland
END:VEVENT
END:VCALENDAR
