BEGIN:VCALENDAR
VERSION:2.0
PRODID:-//BPW Switzerland//NONSGML kigkonsult.se iCalcreator 2.16.12//
METHOD:PUBLISH
X-MS-OLK-FORCEINSPECTOROPEN:TRUE
BEGIN:VEVENT
UID:20260422T112915CEST-4036SiRLHv@BPW Switzerland
DTSTAMP:20260422T092915Z
DESCRIPTION:Das Frauenkulturarchiv lädt ein zu einem Seminar: «Ist körperli
 ches und psychisches Wohlbefinden Glücksache? Was hat Ihre Gesundheit mit 
 Ihnen selbst zu tun?»\nErfolgsautorin Esther Pauchard öffnet ihren psychot
 herapeutischen Werkzeugkoffer.
DTSTART:20240203T100000
DTEND:20240203T160000
ORGANIZER:MAILTO:BPW Switzerland <davos@bpw.ch>
SUMMARY:Das Rezept sind Sie
END:VEVENT
END:VCALENDAR
