BEGIN:VCALENDAR
VERSION:2.0
PRODID:-//BPW Switzerland//NONSGML kigkonsult.se iCalcreator 2.16.12//
METHOD:PUBLISH
X-MS-OLK-FORCEINSPECTOROPEN:TRUE
BEGIN:VEVENT
UID:20260422T101537CEST-6441V1r51M@BPW Switzerland
DTSTAMP:20260422T081537Z
DESCRIPTION:Das Frauenkulturarchiv lädt ein zu einem Vortrag: «Die Kaiserin
  und ihre Tiere» Marian Leuthold\, Naturheilpraktikerin 
DTSTART:20240301T190000
DTEND:20240301T203000
ORGANIZER:MAILTO:BPW Switzerland <davos@bpw.ch>
SUMMARY:«Die Kaiserin und ihre Tiere»
END:VEVENT
END:VCALENDAR
