BEGIN:VCALENDAR
VERSION:2.0
PRODID:-//BPW Switzerland//NONSGML kigkonsult.se iCalcreator 2.16.12//
METHOD:PUBLISH
X-MS-OLK-FORCEINSPECTOROPEN:TRUE
BEGIN:VEVENT
UID:20260422T113609CEST-7820VlmJSb@BPW Switzerland
DTSTAMP:20260422T093609Z
DESCRIPTION:\n\nDer 27. BPW International Congress findet in Helsinki\, Fin
 nland\, statt. Der Kongress erstreckt sich über die Tage vom 17. bis 21. J
 uni 2011.\n\nDie Registration ist eröffnet mit Early Bird Preisen bis zum 
 15. März 2011. Zum Programm\, den Reisevorschlägen und Anmeldemöglichkeite
 n.
DTSTART:20110617T130000
DTEND:20110621T120000
LOCATION:Helsinki\, Finnland
ORGANIZER:MAILTO:BPW Switzerland <davos@bpw.ch>
SUMMARY:27. BPW International Congress Helsinki
END:VEVENT
END:VCALENDAR
