BEGIN:VCALENDAR
VERSION:2.0
PRODID:-//BPW Switzerland//NONSGML kigkonsult.se iCalcreator 2.16.12//
METHOD:PUBLISH
X-MS-OLK-FORCEINSPECTOROPEN:TRUE
BEGIN:VEVENT
UID:20260422T115151CEST-6417WKKAIl@BPW Switzerland
DTSTAMP:20260422T095151Z
DESCRIPTION:Am internationalen Tag der Frau organisieren die Davoser/Kloste
 rser Frauenverbände im katholischen Pfarreizentrum an der Oberen Strasse 3
 3\, Davos Platz einen gemeinsamen Abend zum Thema Menstruation und den dam
 it einhergehenden Tabus. Sprecherinnen sind die Zimbabwe-Schweizerin Janet
  Michel-Nyamayaro und Ziklus-Coach und BPW Nina Koller-Pargätzi. Weitere I
 nformationen sind auf dem beiliegenden Flyer zu finden. \nFür die Fahrgeme
 inschaften vom Prättigau her habe ich einen Nuudle erstellt. 
DTSTART:20240308T200000
DTEND:20240308T220000
ORGANIZER:MAILTO:BPW Switzerland <davos@bpw.ch>
SUMMARY:Internationaler Tag der Frau
END:VEVENT
END:VCALENDAR
