BEGIN:VCALENDAR
VERSION:2.0
PRODID:-//BPW Switzerland//NONSGML kigkonsult.se iCalcreator 2.16.12//
METHOD:PUBLISH
X-MS-OLK-FORCEINSPECTOROPEN:TRUE
BEGIN:VEVENT
UID:20260422T121339CEST-7036D1obZ4@BPW Switzerland
DTSTAMP:20260422T101339Z
DESCRIPTION:Ein gemeinsamer Event von Young BPW Switzerland\, Female Founde
 r Initiative und des BPW Clubs Zürich zum Thema des diesjährigen Internati
 onalen Frauentags.\nWir laden euch herzlich zum International Women's Day 
 Breakfast zum Impact Hub ein!\nJETZT REGISTRIEREN\n\nDatum: 8.3.2024\, ab 
 08:30 Uhr\nOrt: Kraftwerk\, Impact Hub Zürich\, https://goo.gl/maps/mfHZY4
 LB4rZhkn1Z8\nGrösse: ca 100-120 Personen\nSprache: Englisch\nPreis: BPW Me
 mbers zahlen 20.- (regulärer Preis 35.-)\n\nUnsere Speaker:innen:\nHost: M
 arcela Durand und Merle Zur von Impact Hub Zürich und Female Founder Initi
 ative Switzerland\nModeration: Sheerah Kim\, Young BPW Switzerland\n\nKeyn
 ote & Panelists: \n\n	Carmen Somm\, Co-Vizepräsidentin BPW Club Kreuzlingen
 \n	Katrin J. Yuan\, Chair of the AI Future Council\n	Maria-Luisa Fuchs\, Co-
 Head Entrepreneurship & Innovation Universität St. Gallen\n	Nadine Jürgense
 n\, Co-Founderin elleXX\n	Pirmin Meyer\, Co-Präsident WE/MEN\n\nOffen für a
 lle. All genders welcome! \nNach dem Event steht euch der Co-Working Space
  von Impact Hub bis 12:00 Uhr zur Verfügung.\n\nZur Anmeldung gehts hier!
DTSTART:20240308T083000
DTEND:20240308T120000
LOCATION:Kraftwerk Impact Hub Zürich
ORGANIZER:MAILTO:BPW Switzerland <davos@bpw.ch>
SUMMARY:International Women's Day IWD 2024
END:VEVENT
END:VCALENDAR
