BEGIN:VCALENDAR
VERSION:2.0
PRODID:-//BPW Switzerland//NONSGML kigkonsult.se iCalcreator 2.16.12//
METHOD:PUBLISH
X-MS-OLK-FORCEINSPECTOROPEN:TRUE
BEGIN:VEVENT
UID:20260422T101356CEST-4613uj1krA@BPW Switzerland
DTSTAMP:20260422T081356Z
DESCRIPTION:Die 68. Tagung der Kommission für die Rechtsstellung der Frau (
 CSW68-2024) wird vom 11. bis 22. März 2024 in New York stattfinden.\n\nHau
 ptthema:\nBeschleunigung der Verwirklichung der Gleichstellung der Geschle
 chter und der Teilhabe aller Frauen und Mädchen durch die Bekämpfung der A
 rmut und die Stärkung der Institutionen und der Finanzierung unter Berücks
 ichtigung der Geschlechterperspektive.\n\nBestandsaufnahme und Prüfung der
  Themen:\nSozialschutzsysteme\, Zugang zu öffentlichen Dienstleistungen un
 d nachhaltige Infrastrukturen für die Gleichstellung der Geschlechter und 
 die Stärkung der Rolle von Frauen und Mädchen (vereinbarte Abschlusserklär
 ung der 63. Tagung).\n\nWeitere Informationen zur Tagung\, den Themen\, Ne
 ws\, Videos\, Locations und Ticketbestellung gibt es hier.\n\nKleiner Hinw
 eis: Bereits vom 8. - 9. März findet das BPW International Leader's Summit
  und das Clare Fulcher Dinner am 8. März 2024 ebenfalls in New York statt.
 \n\nDie Teilnahme am CSW68 ist - wie üblich - auf 20 Mitglieder beschränkt
  pro NGO. \n\nTeilnahmegesuche für CSW68 bitte ans presidents.office@bpw-i
 nternational.org\n
DTSTART:20240311T000000
DTEND:20240322T235900
ORGANIZER:MAILTO:BPW Switzerland <davos@bpw.ch>
SUMMARY:CSW New York (USA)
END:VEVENT
END:VCALENDAR
