BEGIN:VCALENDAR
VERSION:2.0
PRODID:-//BPW Switzerland//NONSGML kigkonsult.se iCalcreator 2.16.12//
METHOD:PUBLISH
X-MS-OLK-FORCEINSPECTOROPEN:TRUE
BEGIN:VEVENT
UID:20260422T101229CEST-0087xN0cZb@BPW Switzerland
DTSTAMP:20260422T081229Z
DESCRIPTION:Die BPW Europe General Assembly and Young Forum wird vom 21. bi
 s 24. März 2024 in Rom (Italien) stattfinden. \n\nWeitere Informationen zu
 m PW Europe General Assembly and Young Forum folgen nach offizieller Bekan
 ntgabe durch BPW Europe.\n \n
DTSTART:20240322T000000
DTEND:20240324T235900
ORGANIZER:MAILTO:BPW Switzerland <davos@bpw.ch>
SUMMARY:BPW Europe General Assembly and Young Forum\, Rom (Italien)
END:VEVENT
END:VCALENDAR
