BEGIN:VCALENDAR
VERSION:2.0
PRODID:-//BPW Switzerland//NONSGML kigkonsult.se iCalcreator 2.16.12//
METHOD:PUBLISH
X-MS-OLK-FORCEINSPECTOROPEN:TRUE
BEGIN:VEVENT
UID:20260422T115214CEST-0577cMLvIW@BPW Switzerland
DTSTAMP:20260422T095214Z
DESCRIPTION:Die Equal Pay Day-Tagung wird vom 11. bis 12. April 2024 in Pra
 g (Tschechien) stattfinden. \n\nWeitere Informationen zum Equal Pay Day-Ta
 gung folgen nach offizieller Bekanntgabe.\n \n
DTSTART:20240411T000000
DTEND:20240412T235900
ORGANIZER:MAILTO:BPW Switzerland <davos@bpw.ch>
SUMMARY:Equal Pay Day-Tagung\, Prag (Tschechien)
END:VEVENT
END:VCALENDAR
