BEGIN:VCALENDAR
VERSION:2.0
PRODID:-//BPW Switzerland//NONSGML kigkonsult.se iCalcreator 2.16.12//
METHOD:PUBLISH
X-MS-OLK-FORCEINSPECTOROPEN:TRUE
BEGIN:VEVENT
UID:20260422T102242CEST-6644desexG@BPW Switzerland
DTSTAMP:20260422T082242Z
DESCRIPTION:\n \n\nDer Zentralvorstand und die Geschäftsstelle von BPW Swit
 zerland laden ein zur Schulung für Club-Präsident:innen! Sie sind angehend
 e oder bereits gewählte Clubpräsidentin? Oder Sie möchten noch mehr über d
 ie Ziele von BPW und das Amt einer Club-Präsidentin erfahren?\n\nDie Schul
 ung findet dieses Jahr wieder in Person statt\, um uns allen die Gelegenhe
 it zu geben\, Themen direkt zu diskutieren und uns zu vernetzen.\nTreffpun
 kt ist um 09.15 Uhr in der Geschäftsstelle von BPW Switzerland\, Beginn de
 r Schulung ist um 9.45 Uhr.\nDie Adresse lautet: Länggassstrasse 10\, 3012
  Bern\n\nAn der Schulung vom 27. April 2024 sprechen wir über die Ziele un
 d Projekte von BPW sowie über alle organisatorischen Fragestellungen\, die
  euch als Präsidentin eines unserer 39 Clubs schweizweit betreffen.\n\nDie
  Schulung dauert bis ca. 13:00 Uhr. Zum Schluss besteht bei einem kleinen 
 Apéro noch Zeit für Fragen und Austausch.\n\nWir bitten um Anmeldung mitte
 ls untenstehendem Formular bis zum 21. April 2024.\n\nWer sich gerne nur o
 nline dazuschalten möchte\, kann dies gerne tun und in der Anmeldung verme
 rken. Bei einer Teilnahme via Zoom kann die Schulung jedoch nur als Zuhöre
 r:in verfolgt werden\; eine aktive Teilnahme ist ausschliesslich vor Ort m
 öglich.\n\nDer Zoom-Link für diejenigen\, die nur online teilnehmen können
 \, wird kurz vor der Veranstaltung versendet.\n\nWir freuen uns\, möglichs
 t viele von euch vor Ort begrüssen zu dürfen und auf einen regen Austausch
 !\n \n\n\n
DTSTART:20240427T091500
DTEND:20240427T130000
LOCATION:Bern
ORGANIZER:MAILTO:BPW Switzerland <davos@bpw.ch>
SUMMARY:Schulung für neue Clubpräsident:innen
END:VEVENT
END:VCALENDAR
