BEGIN:VCALENDAR
VERSION:2.0
PRODID:-//BPW Switzerland//NONSGML kigkonsult.se iCalcreator 2.16.12//
METHOD:PUBLISH
X-MS-OLK-FORCEINSPECTOROPEN:TRUE
BEGIN:VEVENT
UID:20260422T132349CEST-2261VMuSXI@BPW Switzerland
DTSTAMP:20260422T112349Z
DESCRIPTION:\nWir beantworten eure Fragen zur Webseite\, zum Mail-Account u
 nd zur Datenbank in Form eines offenen Austausches ohne Traktandenliste.\n
 Ihr könnt eure Fragen stellen und gleichzeitig von den Fragen anderer prof
 itieren.\n\nWir treffen uns via Zoom am Mittwoch\, 30. Oktober 2024\, ab 1
 8 Uhr bis ca. 19:30 Uhr.\n\nWir bitten euch um Anmeldung bis spätestens am
  27. Oktober 2024. Nach Ablauf der Anmeldefrist werdet ihr den Zoom-Link v
 on uns erhalten.\n\n\nHinweis: Die gleiche Sprechstunde bieten wir auf Fra
 nzösisch am Mittwoch\, 24. Oktober 2024 von 18:00 - ca. 19:30 Uhr an. \n 
 \n\n\n
DTSTART:20241030T180000
DTEND:20241030T193000
LOCATION:Online
ORGANIZER:MAILTO:BPW Switzerland <davos@bpw.ch>
SUMMARY:Online-Sprechstunde Website\, Mails und Datenbank (Deutsch)
END:VEVENT
END:VCALENDAR
