BEGIN:VCALENDAR
VERSION:2.0
PRODID:-//BPW Switzerland//NONSGML kigkonsult.se iCalcreator 2.16.12//
METHOD:PUBLISH
X-MS-OLK-FORCEINSPECTOROPEN:TRUE
BEGIN:VEVENT
UID:20260422T131133CEST-4978hiul6X@BPW Switzerland
DTSTAMP:20260422T111133Z
DESCRIPTION: \nDer XXXI BPW International Congress findet vom 17. bis zum 2
 1. November 2024 in St. Kitts statt. Die Kongresslocation sind das St. Kit
 ts Marriott Resort und The Royal Beach Casino.\n\nLest jetzt die Welcome M
 essage von Dr. Catherine Bosshart\, BPW International President 2021-2024 
 hier.\n\nAuf https://stkittscongress.bpw-international.org/ finden sich al
 le Informationen zum Programm\, den Locations\, sowie Welcome Messages von
  BPW aus dem Executive Board\, sowie dem International und Local Planning 
 Committee.\n \n\nHier geht es zur Registrierung und zum Ticketkauf\n\nGut 
 zu wissen: \n\n\n	\n	NEU: Die Registrierung zu Early Bird Preisen gilt bis z
 um 2. September 2024!\n	\n	\n	Danach bis zum 15. September 2024 gelten regulä
 re Preise\n	\n\n\nHier finden sich laufend alle News zum Kongress: https://
 linktr.ee/bpwinternational\n\nBei Fragen zum International Congress wendet
  euch bitte an Myriam Heidelberger Kaufmann\, Mitglied des Zentralkomitees
  BPW Switzerland (myriam.heidelberger@bpw.ch).\n\n
DTSTART:20241117T000000
DTEND:20241121T235900
ORGANIZER:MAILTO:BPW Switzerland <davos@bpw.ch>
SUMMARY:BPW International Congress 2024
END:VEVENT
END:VCALENDAR
