BEGIN:VCALENDAR
VERSION:2.0
PRODID:-//BPW Switzerland//NONSGML kigkonsult.se iCalcreator 2.16.12//
METHOD:PUBLISH
X-MS-OLK-FORCEINSPECTOROPEN:TRUE
BEGIN:VEVENT
UID:20260422T103235CEST-7486vZ1ulL@BPW Switzerland
DTSTAMP:20260422T083235Z
DESCRIPTION: \n\nBPW Switzerland is a part of the Collective network and su
 pports the endeavours to close the female founders gap.\nBPW members are i
 nvited to join the Collective Gathering on 29 May 2024 at Kulinarium\, Ber
 n from 13:30 - 17:45.\n\nIt’s THE rendezvous for female decision-makers\, 
 thought leaders\, investors\, board members\, entrepreneurs\, and research
 ers.\nIt’s not just an event but a powerhouse of networking\, knowledge ex
 change\, and trust-building among like-minded people.\n\nRegistration and 
 more information:\nhttps://collective.startupdays.ch/event/collective-gath
 ering/ \n\nCosts: CHF 125.-\n\nIf you cannot afford the ticket\, please ge
 t in contact with Young BPW Representative Sheerah Kim (sheerah.kim@bpw.ch
 ) for a discounted ticket of CHF 50.-.\nPriority will be given to Young BP
 W members.\n\nThe program is dedicated to igniting new ideas\, perspective
 s and connections\, for collective impact. You’ll hear from and meet with 
 leading women across various industries and generations. We’re putting tog
 ether a lineup with incredible keynote speakers from Switzerland\, Europe 
 and beyond. \n \n
DTSTART:20240529T133000
DTEND:20240529T174500
LOCATION:Young BPW im Kulinarium in Bern
ORGANIZER:MAILTO:BPW Switzerland <davos@bpw.ch>
SUMMARY:Collective Gathering
END:VEVENT
END:VCALENDAR
