BEGIN:VCALENDAR
VERSION:2.0
PRODID:-//BPW Switzerland//NONSGML kigkonsult.se iCalcreator 2.16.12//
METHOD:PUBLISH
X-MS-OLK-FORCEINSPECTOROPEN:TRUE
BEGIN:VEVENT
UID:20260422T130958CEST-1547EIPP5V@BPW Switzerland
DTSTAMP:20260422T110958Z
DESCRIPTION:Das Wirtschaftsforum Südostschweiz ist seit über einem Viertelj
 ahrhundert der zentrale Treffpunkt für entscheidungstragende Personen und 
 Unternehmerinnen und Unternehmer aus der ganzen Südostschweiz. Jährlich tr
 effen sich 500– 600 Gäste aus Graubünden\, Glarus und der Ostschweiz. Hoch
 karätige nationale und internationale Referentinnen und Referenten und ein
 zigartige Netzwerkmöglichkeiten verwandeln den Anlass zum wichtigsten Tref
 fpunkt von Wirtschaft\, Politik und Wissenschaft in der Südostschweiz. \n
 \n 
DTSTART:20240827T000000
DTEND:20240827T235900
ORGANIZER:MAILTO:BPW Switzerland <davos@bpw.ch>
SUMMARY:Wirtschaftsforum Südostschweiz
END:VEVENT
END:VCALENDAR
