BEGIN:VCALENDAR
VERSION:2.0
PRODID:-//BPW Switzerland//NONSGML kigkonsult.se iCalcreator 2.16.12//
METHOD:PUBLISH
X-MS-OLK-FORCEINSPECTOROPEN:TRUE
BEGIN:VEVENT
UID:20260422T102445CEST-3517NnbIxV@BPW Switzerland
DTSTAMP:20260422T082445Z
DESCRIPTION:Zu diesem Termin treffen wir uns im Marchtchäller in Klosters u
 nd erfahren wie einheimische Produzentinnen mit Engagement und Ideen einen
  gerne besuchten Treffpunkt schufen. \n\nIm Anschluss daran geniessen wir 
 vor Ort einen reichhaltigen Apéro zu 25 Franken inklusive Getränke.\n\nAnm
 eldung bis Montag\, 1. Juli\, hier.
DTSTART:20240703T190000
DTEND:20240703T210000
ORGANIZER:MAILTO:BPW Switzerland <davos@bpw.ch>
SUMMARY:Betrieb in unserer Region
END:VEVENT
END:VCALENDAR
