BEGIN:VCALENDAR
VERSION:2.0
PRODID:-//BPW Switzerland//NONSGML kigkonsult.se iCalcreator 2.16.12//
METHOD:PUBLISH
X-MS-OLK-FORCEINSPECTOROPEN:TRUE
BEGIN:VEVENT
UID:20260422T101535CEST-7269OAp7aB@BPW Switzerland
DTSTAMP:20260422T081535Z
DESCRIPTION:\nBPW Club Schaffhausen lädt ein!\n\nBPW Schaffhausen feiert 20
 24 sein 50-Jahr-Jubiläum. Das bedeutet 50 Jahre Engagement für die Gleichs
 tellung und Sichtbarkeit von Frauen in Politik\, Wirtschaft und Gesellscha
 ft in der Region Schaffhausen. Vor 50 Jahren waren Frauen erst seit kurzer
  Zeit stimmberechtigt\, berufliche Karrieren waren alles andere als selbst
 verständlich und für viele Mütter war ein Dasein zwischen Heim und Herd di
 e einzige Realität. Seitdem hat sich viel getan in der Welt und auch in Sc
 haffhausen. 60 BPW-Frauen verschiedener Generationen leben hier ein aktive
 s und vielseitiges Clubleben. 50 Jahre BPW Schaffhausen – das sind 50 gute
  Gründe ausgiebig zu feiern und ebenso viele Fragen\, was der Club in Zuku
 nft für die berufstätigen Frauen der Region bewegen will. \n\nAm Samstag\,
  1. Juni 2024 im Pavillon im Park in Schaffhausen (https://www.pavillonimp
 ark.ch) feiern wir deshalb alle unser 50-Jahr-Jubiläum in festlicher Atmos
 phäre. Partner sind herzlich willkommen.\n\nProgramm\n15 Uhr // World-Café
  für BPW-Frauen und Gäste\nDer Anlass beginnt am Nachmittag für die Clubmi
 tglieder und geladene Gäste mit einem World Café\, an dem in offener Gespr
 ächskultur Visionen für die Zukunft von BPW Schaffhausen entwickelt und di
 skutiert werden.\n\n17.30 Uhr // Apéro mit Partner\nMeet and Greet auf der
  Terrasse des Pavillon im Park\n\n18.45 Uhr // Abendanlass mit Partner\nDi
 e Kabarettistin Judith Bach präsentiert ein Best-Of ihrer Nummern. Darauf 
 folgt ein feines Drei-Gänge-Menu in festlicher Atmosphäre!\n\nKosten\nCHF 
 125 \ninkl. Apéro und Galadinner\, Wasser\, Wein und Prosecco\, Kaffee ode
 r Tee\n\nAn- oder Abmeldungen bis Mittwoch\, 1. Mai 2024\, 21 Uhr.\nBitte 
 beachtet\, dass bei einer kurzfristigen Abmeldung ab 2. Mai 2024 der gesam
 te Menu-Preis verrechnet werden muss.\n \n\nHier geht es zur Anmeldung. \n
 \n\n
DTSTART:20240601T150000
DTEND:20240601T230000
LOCATION:Pavillon im Park
ORGANIZER:MAILTO:BPW Switzerland <davos@bpw.ch>
SUMMARY:50-Jahr-Jubiläums-Anlass von BPW Club Schaffhausen
END:VEVENT
END:VCALENDAR
