BEGIN:VCALENDAR
VERSION:2.0
PRODID:-//BPW Switzerland//NONSGML kigkonsult.se iCalcreator 2.16.12//
METHOD:PUBLISH
X-MS-OLK-FORCEINSPECTOROPEN:TRUE
BEGIN:VEVENT
UID:20260422T131013CEST-65805i8ixL@BPW Switzerland
DTSTAMP:20260422T111013Z
DESCRIPTION:Der Rotary Club Davos lädt dieses Jahr zum 5er-Treffen ein.\nEs
  findet im Hotel Ameron statt und als Gast ist der neue CEO von DDO\, Albe
 rt Kruker eingeladen\, der ein Referat halten wird.\n\nNur Mitglieder sind
  zur Teilnahme zugelassen. Keine Interessentinnen.\n\nAnmeldeschluss ist M
 ontag\, 21. Oktober. Bitte hier eintragen. \n\n\n \n
DTSTART:20241104T183000
DTEND:20241104T220000
ORGANIZER:MAILTO:BPW Switzerland <davos@bpw.ch>
SUMMARY:5er-Treffen der Serviceclubs
END:VEVENT
END:VCALENDAR
