BEGIN:VCALENDAR
VERSION:2.0
PRODID:-//BPW Switzerland//NONSGML kigkonsult.se iCalcreator 2.16.12//
METHOD:PUBLISH
X-MS-OLK-FORCEINSPECTOROPEN:TRUE
BEGIN:VEVENT
UID:20260422T131207CEST-78877evOKh@BPW Switzerland
DTSTAMP:20260422T111207Z
DESCRIPTION:BPW Club Luzern lädt ein:\n\nWir gehen in die dritte Runde: Gen
 der Pension Gap 3.0\nClever vorsorgen – Finanzen im Griff\n\nDatum & Ort\n
 Dienstag\, 27. August 2024\nKV Luzern\, Aula Propsteimatte\, Dreilindenstr
 asse 20\, Luzern\n\nErfahre mehr zum Vorsorgen und cleveren Anlegen:\n\n	Wi
 e wirken sich deine Lebensentscheide auf deine Altersvorsorge aus?\n	Welche
  entscheidenden Informationen bietet dir dein Pensionskassenausweis?\n	Welc
 he wertvollen Tipps und Tricks solltest du beim Geldanlegen kennen?\n\nDu 
 hast die Gelegenheit\, zwei verschiedene Inputs Ihrer Wahl als kleine Weit
 erbildung zu besuchen. Es wird somit ein spannender und aktiver Abend.\n\n
 Stelle deine Fragen unseren Expertinnen und Experten in den drei Workshops
  und nutze den anschliessenden Apéro\, um dich weiter zu vernetzten.\n\nWi
 r freuen uns darauf\, dich wieder begrüssen zu dürfen und gemeinsam nachha
 ltige Lösungen zu entwickeln. \n\nEuer OK Pension Gap BPW Club Luzern\nBea
 trice Barnikol\, Karin Stadelmann\, Stephanie Ziörjen\n\nDieser Anlass wir
 d unterstützt von:\n\n\n	KV Luzern\n	UBS\n	PensExpert\n	Wirtschaftsverband Sta
 dt Luzern\n	alliance F\n\n\nHier geht es zur Anmeldung: \nhttps://bpw-luzer
 n.ch/Veranstaltungen/Details/An-Abmelden?id=499&date=1724776200\n\nBitte l
 ächeln :)\nAn der Veranstaltung werden Fotos gemacht\, die wir für unsere 
 Website und Social-Media-Kanäle verwenden. Wer sich nicht fotografieren la
 ssen möchte\, soll sich bitte per Mail melden: info@bpw-luzern.ch
DTSTART:20240827T183000
DTEND:20240827T220000
LOCATION:KV Luzern\, Aula Propsteimatte
ORGANIZER:MAILTO:BPW Switzerland <davos@bpw.ch>
SUMMARY:Gender Pension GPG 3.0: Clever vorsorgen – Finanzen im Griff
END:VEVENT
END:VCALENDAR
