BEGIN:VCALENDAR
VERSION:2.0
PRODID:-//BPW Switzerland//NONSGML kigkonsult.se iCalcreator 2.16.12//
METHOD:PUBLISH
X-MS-OLK-FORCEINSPECTOROPEN:TRUE
BEGIN:VEVENT
UID:20260422T112645CEST-86248sFi8U@BPW Switzerland
DTSTAMP:20260422T092645Z
DESCRIPTION:\n \nRegionalanlass der BPW Clubs Südostschweiz\nChur\, Davos/K
 losters\, Engiadina\, Glarus\, Rapperswil\, Rheintl\n\n\nWerdenberg - das 
 idyllische Burgstädtchen ist bemerkenswert\, weist es doch ein Schloss\, e
 inen See\, 34 Häuser und rund 90 EinwohnerInnen auf. Das Städtchen wurde e
 rstmals 1289 erwähnt. Historiker glauben\, dass es sich um eine mittelstei
 nzeitliche Besiedlung handelt und Kenner schliessen aus den Kellergewölben
 \, dass sie im Stile des Vitruv\, des Lieblingsbaumeisters des Kaisers Oct
 avian (Augustus\, der erste römische Kaiser) gebaut worden ist. Zugleich i
 st das Kleinod Werdenberg wohl die einzige noch weitgehend erhaltene mitte
 lalterliche Holzsiedlung unseres Landes mit städtischem Charakter. Auf kle
 instem Raum findet sich im Städtchen Werdenberg eine Vielfalt der Holz- un
 d Mischbauweise mit Konstruktionstypen des Profanbaues (mit Block-\, Bohle
 nständer- und Fachwerkbauten). Fräulein Frieda Hilty\, letzte Schlossbewoh
 nerin verliess 1956 in hohem Alter ihr ehrwürdiges Zuhause. Sie schenkte d
 as Schloss samt Ausstattung 1956 dem Kanton St. Gallen\, wodurch das Anwes
 en öffentlich zugänglich wurde.\n\n\n\nProgramm\n\n\n	\n		\n			17.15 Uhr\n			Treffp
 unkt auf dem Marktplatz (gleichzeitig auch Parkplatz) direkt beim Werdenbe
 rger See\n			Begrüssung durch die Präsidentin BPW Rheintal\n			Spaziergang um de
 n idyllischen See durch das historische Weltstädtchen\n		\n		\n			18.00 Uhr\n			Auf 
 den Spuren von Fräulein Hilty - Besichtigung des Schlosses\n		\n		\n			19.00 Uhr
 \n			Spaziergang zum Restaurant Galerie am See (beim Marktplatz)\n		\n		\n			19.30 U
 hr\n			Abendessen im Restaurant Galerie am See\n		\n	\n\n \n\nAbendessen wahlwei
 se:\n \n\n	\n		\n			Menu 1 \n			Bunter Saisonsalat\n			*****\n			Schweinsfilet-Medaillons
  gebraten\n			auf Mischpilzen an Basilikum-Rahmsauce\n			Kartoffelkroketten\n			Gem
 üsegarnitur\n			*****\n			Mini-Coupe Nesselrode\n			Menu 2\n			Bunter Saisonsalat\n			***
 **\n			Überbackene Kartoffeln\n			mit Gemüsevariation (Spezialität des Hauses)\n
 			*****\n			Mini-Coupe Nesselrode\n		\n	\n\n\nKosten\nCHF 60 inkl. Schlossführung 
 und Überraschungen\n\nAnfahrtsskizze und ausführliche Informationen finden
  Sie auf dem Flyer (siehe unten).\n\n\nAn-/Abmeldung direkt bei BPW Rheint
 al bis spätestens 12. September 2011\n\nAnmeldung\n\nAnmeldedoodle bei BPW
  Davos Klosters bis spätestens 12. September 2011\nWir organisieren Fahrge
 meinschaften ab Bahnhofparkplatz Davos Dorf und ab Klosters. Bitte auch au
 f dem Anmeldedoodle anmelden!\n15.45 Uhr Abfahrt Bahnhofparkplatz Davos Do
 rf\n16.00 Uhr Abfahrt in Klosters\, Ort nach Vereinbarung\n\nAnmeldedoodle
 \n
DTSTART:20110920T171500
DTEND:20110920T220000
LOCATION:Werdenberg
ORGANIZER:MAILTO:BPW Switzerland <davos@bpw.ch>
SUMMARY:Zu Besuch in der kleinsten Stadt der Welt
END:VEVENT
END:VCALENDAR
