BEGIN:VCALENDAR
VERSION:2.0
PRODID:-//BPW Switzerland//NONSGML kigkonsult.se iCalcreator 2.16.12//
METHOD:PUBLISH
X-MS-OLK-FORCEINSPECTOROPEN:TRUE
BEGIN:VEVENT
UID:20260422T131313CEST-4836mPGW2D@BPW Switzerland
DTSTAMP:20260422T111313Z
DESCRIPTION:\n«Frauenquoten in Sportverbänden – ein kritischer Blick auf ei
 n viel diskutiertes Thema»\n\nSchweizer Sportverbände stehen unter Druck: 
 Frauen in Führungsgremien sind nach wie vor Mangelware. Die unzureichende 
 Frauenquote und die Erfüllung der Sportförderverordnung sorgen für hitzige
  Debatten. Im Online Empowerment Talk mit Kollektivmitglied Sporti(f)\, we
 rfen wir einen kritischen Blick auf die Ursachen\, Widerstände und die dri
 ngende Notwendigkeit eines Wandels.\n\nIm Gespräch: Luana Bergamin und Gab
 riela Buchs\, Co-Präsidentinnen von sporti(f) mit Linda Herzog-Mayer Co-Ge
 schäftsführerin von BPW Switzerland.\n\nSporti(f) ist das Schweizer Netzwe
 rk für Sportler:innen und Frauen\, die beruflich und privat im Sport engag
 iert sind. Mehr Informationen hier. \n\nDieser Empowerment Lunchtalk finde
 t am 22. August 2024 über Mittag in deutscher Sprache statt.\n\nDie Verans
 taltung ist kostenlos und Teil unserer Kampagne «Frauen in die Cheffe-Etag
 en». \n \n\nHier geht es zur Anmeldung. \n\n
DTSTART:20240822T120000
DTEND:20240822T133000
LOCATION:Online via Zoom 
ORGANIZER:MAILTO:BPW Switzerland <davos@bpw.ch>
SUMMARY:Online Empowerment Talk mit Kollektivmitglied Sporti(f) 
END:VEVENT
END:VCALENDAR
