BEGIN:VCALENDAR
VERSION:2.0
PRODID:-//BPW Switzerland//NONSGML kigkonsult.se iCalcreator 2.16.12//
METHOD:PUBLISH
X-MS-OLK-FORCEINSPECTOROPEN:TRUE
BEGIN:VEVENT
UID:20260422T125642CEST-3055A78Vap@BPW Switzerland
DTSTAMP:20260422T105642Z
DESCRIPTION:Im Juni liessen sich die BPW-Frauen im Lab42 von Daniela Suter 
 über die den technischen Hintergrund von KI informieren.\nIn einem nächste
 n Schritt geht es nun mit Heidi Leemann (BPW Chur) an die Praxis.\nDamit w
 ir gleich loslegen können\, sind alle eingeladen ihren WLAN-fähigen Laptop
  mitzubringen.\n\n\nDazu treffen wir uns im Feuerwehrlokal in Klosters zu 
 einem spannenden Vortrag und einem Suppenznacht.\nPreis 20 Franken.\n\nPS.
  Das auf die Veranstaltung hinweisende Foto wollte ich von ChatGPT erstell
 en lassen. Die Gratis-Version kann das allerdings nicht. Vielleicht bringe
 n wir zusammen mit Heidi etwas besseres hin. \nSo bleibt es vorläufig bei 
 einem Foto von Konstantin Gastmann_pixelio.de\n\nBitte hier anmelden bis M
 ontag\, 6. Januar.\n
DTSTART:20250108T190000
DTEND:20250108T220000
ORGANIZER:MAILTO:BPW Switzerland <davos@bpw.ch>
SUMMARY:KI im Einsatz
END:VEVENT
END:VCALENDAR
