BEGIN:VCALENDAR
VERSION:2.0
PRODID:-//BPW Switzerland//NONSGML kigkonsult.se iCalcreator 2.16.12//
METHOD:PUBLISH
X-MS-OLK-FORCEINSPECTOROPEN:TRUE
BEGIN:VEVENT
UID:20260422T130758CEST-8241oZlu52@BPW Switzerland
DTSTAMP:20260422T110758Z
DESCRIPTION:\nBPW Europe Working Group Learning for Leadership is delighted
  to announce the next round of BPW Leadership Training for Women! The thre
 e half-day interactive online training will be held on Fridays\, 4th\, 11t
 h & 18th October\, 2024 from 12:30-17:00 CET.\n\nWhat is the workshop abou
 t?\n\nThis inspirational and practical program is designed to empower wome
 n in achieving their personal and professional goals and enhance their man
 agement and leadership skills by means of theory\, practical exercises and
  shared experience. It will enable you to learn about the different aspect
 s of leadership and develop your own personal leadership style.\n\nIs this
  workshop for me?\n\nIt is appropriate for women in leadership positions\,
  business owners\, entrepreneurs\, start-uppers and ambitious women who ar
 e ready to take the next step in their professional career. \n\nMore detai
 ls on the program content and registration can be found here. \n\nPlaces a
 re limited\, so hurry up and register.\n\nBest regards\,\n\nAnu Viks\, Con
 ny Montague\, Ann Wood\, Petya Barraud\nBPW Europe Learning for Leadership
 \n\n\n\n \n
DTSTART:20241004T123000
DTEND:20241018T170000
LOCATION:Online
ORGANIZER:MAILTO:BPW Switzerland <davos@bpw.ch>
SUMMARY:Leadership Training for Women
END:VEVENT
END:VCALENDAR
