BEGIN:VCALENDAR
VERSION:2.0
PRODID:-//BPW Switzerland//NONSGML kigkonsult.se iCalcreator 2.16.12//
METHOD:PUBLISH
X-MS-OLK-FORCEINSPECTOROPEN:TRUE
BEGIN:VEVENT
UID:20260422T131143CEST-6593NFjvMz@BPW Switzerland
DTSTAMP:20260422T111143Z
DESCRIPTION:\nThe RiseUp Summit organized by ImpactHub and the Female Found
 ers Initiative is the first summit of its kind in Switzerland\, by women f
 or everyone - because we believe the future is diverse. A supportive and e
 mpowering environment that fosters networking\, learning\, and collaborati
 on among 300 talented diverse founders from various industries\, investors
  and supporting networks. \n \nThe RiseUp Summit brings diverse founders\,
  investors and experts on stage. We feature innovative companies\, highlig
 ht insights from the ecosystem and build bridges to Investors\, Venture Ca
 pitalists\, Business Angels\, Corporates\, Networks and Mentors. Through a
  thoughtfully curated mix of workshops\, fireside chats and panel discussi
 ons\, and a pitch competition\, attendants will gain valuable insights\, p
 ractical knowledge\, and inspiration to propel their ventures to new heigh
 ts.\n \nWhether you are a founder\, interested in the startup world\, or w
 ould just like to experience an inspiring and vibrant day\, you are more t
 han welcome to join us!\n\nOfficial website\n\nhttp://riseupsummit.ch/\n\n
 Date: 04.10. 2024\, starts at 09:15\nLocation: Google Zurich\, Europaallee
 \nLanguage: English\n\nAgenda\n\n08:30: Doors open\n08:30 - 09:15: Breakfa
 st and Network\n09:15 - 10:30: Welcome and opening keynote\n10:45 - 11:30:
  Sessions Block 1 \n11:30 - 13:00: Lunch\n13:00 - 15:45: Sessions Block 2 
 \n16:00 - 17:15: Pitch Competition \n17:15 - 19:00: Goodbye and Networking
  Apéro\n19:00 - 23:00: Girls Night Out\n\nRegistration closes at 1 October
  2024.\n\n
DTSTART:20241004T000000
DTEND:20241004T235900
ORGANIZER:MAILTO:BPW Switzerland <davos@bpw.ch>
SUMMARY:Young BPW goes Rise Up Summit 2024!
END:VEVENT
END:VCALENDAR
