BEGIN:VCALENDAR
VERSION:2.0
PRODID:-//BPW Switzerland//NONSGML kigkonsult.se iCalcreator 2.16.12//
METHOD:PUBLISH
X-MS-OLK-FORCEINSPECTOROPEN:TRUE
BEGIN:VEVENT
UID:20260422T125406CEST-4883h3T9i0@BPW Switzerland
DTSTAMP:20260422T105406Z
DESCRIPTION:Dieses Mal geht es in den Stall Valär gleich bei der Talstation
  der Bergbahnen Brämabüel Jakobshorn.\nDort erwartet uns ein feines Menue 
 mit Salat\, Pasta al'arrabiata und einem Glacé zum Dessert.\nDas Ganze für
  49 Franken pro Person. \n\nGemeinsam reisen wir an diesem Abend mit den T
 eilnehmerinnen an internationalen Kongress in Wort und Bild zurück nach St
 . Kitts.\nLasst euch überraschen.\n\n\nAnmeldungen bitte hier bis Montag\,
  3. Februar.
DTSTART:20250205T190000
DTEND:20250205T213000
ORGANIZER:MAILTO:BPW Switzerland <davos@bpw.ch>
SUMMARY:Kerzenlichtfeier
END:VEVENT
END:VCALENDAR
