BEGIN:VCALENDAR
VERSION:2.0
PRODID:-//BPW Switzerland//NONSGML kigkonsult.se iCalcreator 2.16.12//
METHOD:PUBLISH
X-MS-OLK-FORCEINSPECTOROPEN:TRUE
BEGIN:VEVENT
UID:20260422T125135CEST-0091xXcOlk@BPW Switzerland
DTSTAMP:20260422T105135Z
DESCRIPTION:Für die Mitgliederversammlung haben wir einen Raum im Hotel Hot
 els Ameron. \n\nDen Abend beschliessen wir mit einem feinen Nachtessen in 
 deren Restaurant Bachio della Mama wo wir einen Salat und eine feine Pinsa
  bekommen. Diese gibt es in vielerlei Varianten.\nDer Einfachheit halber b
 eschränken wir uns auf\n\n- Margherita mit Tomatensauce\, Mozzarella Fior 
 di latte\, Pecorino Käse aus Schafsmilch\, Basilikum\n\noder \n\n- Rustica
  mit Tomatensauce\, Mozzarella Fior di latte\, Provola\, Schinken\, Speck\
 , Lauchzwiebel und Kräuterseitling\n\nAls Besonderheit kann zusätzlich zwi
 schen einem Boden aus Weissmehl oder Vollkorn gewählt werden.\n\nEssen und
  Getränke 50 Franken.  \n\nAnmeldungen bis Sonntag\, 9. März\, wie immer h
 ier.
DTSTART:20250312T190000
DTEND:20250312T223000
ORGANIZER:MAILTO:BPW Switzerland <davos@bpw.ch>
SUMMARY:Mitgliederversammlung 
END:VEVENT
END:VCALENDAR
