BEGIN:VCALENDAR
VERSION:2.0
PRODID:-//BPW Switzerland//NONSGML kigkonsult.se iCalcreator 2.16.12//
METHOD:PUBLISH
X-MS-OLK-FORCEINSPECTOROPEN:TRUE
BEGIN:VEVENT
UID:20260422T125829CEST-7717oMLIve@BPW Switzerland
DTSTAMP:20260422T105829Z
DESCRIPTION:Was tut uns wirklich gut und was nicht? Die  Ernährungberaterin
  Regula Herzog nimmt uns mit auf eine spannende Reise.\nDazu treffen wir u
 ns auf der Seite Promenade des Seehofseelis bei der Bushaltestelle Parsenn
  in Davos Dorf. Parkierungsmöglichkeiten gibt es auf dem Parsennparkplatz.
  \n\nZum Essen finden wir uns wieder im Restaurant Emerald an der Dorfstra
 sse in Davos. \nIm von einer chinesischen Familie geführten Restaurant erw
 arten uns\n \n- Mais-Suppe mit Eierstich\n- Poulet süss-sauer\n- Knusprige
 r Schweinebauch Kantonesischer Art\n- Gemischtes Saisongemüse\n- Gedämpfte
 r Reis\n\nAlternativ gibt es \n- Salz-Pfeffer Tofu\n- Pikante Aubergine\n
 \nDas Ganze zum Preis von 50 Franken. Getränke sind separat. \n\nAnmeldung
  bis Montag\, 31. März\, wie immer über Nuudle. \n\n \n
DTSTART:20250402T190000
DTEND:20250402T223000
ORGANIZER:MAILTO:BPW Switzerland <davos@bpw.ch>
SUMMARY:Ernährung im Fokus
END:VEVENT
END:VCALENDAR
