BEGIN:VCALENDAR
VERSION:2.0
PRODID:-//BPW Switzerland//NONSGML kigkonsult.se iCalcreator 2.16.12//
METHOD:PUBLISH
X-MS-OLK-FORCEINSPECTOROPEN:TRUE
BEGIN:VEVENT
UID:20260422T102314CEST-6549iZ37mF@BPW Switzerland
DTSTAMP:20260422T082314Z
DESCRIPTION:\n8. März 2011 – 20.00 Uhr – Steigenberger Belvédère Davos\nEin
 tritt: CHF 15.- (inkl. 1 Getränk und Häppchen nach der Veranstaltung)\n\n 
 \n\nFrau und Politik\n\nEin Gespräch mit Elisabeth Kopp\n\nGesprächspartne
 rin Maria von Ballmoos\nIm Anschluss gemütliches Beisammensein bei einem G
 las Wein und Häppchen\n\n\n\nElisabeth Kopp war die erste Frau im Bundesra
 t. Sie war Vorsteherin des Eidg. Justiz- und Polizeidepartements (1984 -19
 89). Sie engagierte sich von je her für die gesellschaftliche Gleichstellu
 ng der Frauen\, insbesondere für das Frauenstimmrecht (1971). Sie unterstü
 tzte die Aufnahme des Gleichberechtigungsartikels in die Bundesverfassung 
 (1981) und setzte sich für die Besserstellung der Frauen in der Gesellscha
 ft ein. Ganz besonders engagierte sie sich bei der Einführung des neuen pa
 rtnerschaftlichen Eherechts.\n \nFrauen in Spitzenpositionen müssen so sel
 bstverständlich werden wie Männer als Kindergärtner.\nZitat: Elisabeth Kop
 p in „Zwei Schritte vor\, einen zurück“\, Buchrezension\, NZZ am Sonntag\,
  30. Juli 2006\n\n\nEin Anlass der Davoser Frauenorganisationen\n‣ Bündner
 innen-Vereinigung ‣ BPW Davos Klosters ‣ Frauenbund Davos ‣ Kath. Frauenve
 rein Davos ‣ SGF Davos Dorf \n\nUnterstützt von den Sponsoren\n‣ Gemeinde 
 Davos  ‣ Credit Suisse  ‣ Steigenberger Hotel Belvédère Davos  ‣ Blumen We
 rke \n 
DTSTART:20110308T200000
DTEND:20110308T220000
LOCATION:Davos Platz\, Steigenberger Belvédère
ORGANIZER:MAILTO:BPW Switzerland <davos@bpw.ch>
SUMMARY:100 Jahre Internationaler Tag der Frau
END:VEVENT
END:VCALENDAR
