BEGIN:VCALENDAR
VERSION:2.0
PRODID:-//BPW Switzerland//NONSGML kigkonsult.se iCalcreator 2.16.12//
METHOD:PUBLISH
X-MS-OLK-FORCEINSPECTOROPEN:TRUE
BEGIN:VEVENT
UID:20260422T131244CEST-8880bPARpE@BPW Switzerland
DTSTAMP:20260422T111244Z
DESCRIPTION:Einladung von Frauen für Frauen\, Männer und andere Interessier
 te\nKatharina Beisiegel\, Direktorin des Kirchner Museum Davos\, und Kunst
 vermittlerin Sarah Keppel führen durch die aktuelle Ausstellung 'Neue Meis
 terwerke. Sammlung Ulmberg'.\nDieser exklusive Benefizanlass zugunsten des
  Fonds 'Mutter und Kind' des Frauenhauses Graubünden wird vom Frauenservic
 e-Club Soroptimist Davos-Prättigau im Rahmen des Orange Day\, dem Internat
 ionalen Tage gegen Gewalt an Frauen\, organisiert.\nDie Soroptimisten setz
 en sich dafür ein\, dass Frauen und Mädchen ihr Leben selbstbestimmt\, fre
 i und gleichberechtigt gestalten können. Der Fonds zur Unterstützung des F
 rauenhauses Graubünden widmet sich insbesondere der Betreung der Kinder\, 
 die mit ihren Müttern im Frauenhaus notlanden. Um diese wichtige Arbeit zu
  unterstützen\, freuen sich die Soroptimisten auf eine rege Teilnahme an d
 er Führung und dem anschliessenden Apéro.\n\nProgramm:\n- Kurze Informatio
 n des Frauenhauses Graubünden zum Fonds 'Mutter und Kind'\n- Führung durch
  die neue und erstmals öffentliche Ausstellung 'Neue Meisterwerke. Sammlun
 g Ulmberg'\n- Apéro zum Austausch und Ausklang\n\nPreis: 30 Franken (keine
  Kartenzahlung möglich). Höhere Beträge sind willkommen.\nKeine Anmeldung 
 nötig. \n\nBildlegende: Ernst Ludwig Kirchner (1880–1938)\, Alphütten und 
 Tinzenhorn\, 1919–1920\, Öl auf Jute und Baumwolle\, 88\,5 x 120\,5 cm\, S
 ammlung Ulmberg\, Foto: Stephan Bösch\n
DTSTART:20241125T184500
DTEND:20241125T203000
ORGANIZER:MAILTO:BPW Switzerland <davos@bpw.ch>
SUMMARY:Sammlung Ulmberg
END:VEVENT
END:VCALENDAR
