BEGIN:VCALENDAR
VERSION:2.0
PRODID:-//BPW Switzerland//NONSGML kigkonsult.se iCalcreator 2.16.12//
METHOD:PUBLISH
X-MS-OLK-FORCEINSPECTOROPEN:TRUE
BEGIN:VEVENT
UID:20260422T131117CEST-3702XWZUB3@BPW Switzerland
DTSTAMP:20260422T111117Z
DESCRIPTION:\nMit Letizia Ragaglia von BPW Lichtenstein ins Kunstmuseum in 
 Vaduz.\nBei einer Führung durch die Ausstellung von 'Ana Lupas' gibt Letiz
 ia\, die Direktorin des Kunstmuseums Liechtenstein\, an diesem Abend einen
  Einblick über Frauen in der Kunst\, gestern und heute\, und erzählt über 
 ihre eigene Karriere als Frau\, die Kunst vermittelt. Den Abend klingt im 
 Café des Kunstmuseums bei einem Imbiss aus.\n\nDie detaillierten Angaben z
 um Event und den Anmeldebutton für Gäste sind auf der Website zu finden.\n
 \n \n\nAnmeldeschluss ist am 1. November 2024.\n
DTSTART:20241105T180000
DTEND:20241105T203000
ORGANIZER:MAILTO:BPW Switzerland <davos@bpw.ch>
SUMMARY:Frau und Kunst
END:VEVENT
END:VCALENDAR
