BEGIN:VCALENDAR
VERSION:2.0
PRODID:-//BPW Switzerland//NONSGML kigkonsult.se iCalcreator 2.16.12//
METHOD:PUBLISH
X-MS-OLK-FORCEINSPECTOROPEN:TRUE
BEGIN:VEVENT
UID:20260422T125345CEST-1515jkatWS@BPW Switzerland
DTSTAMP:20260422T105345Z
DESCRIPTION:\nPräsidentinnenkonferenz – erweitert - unter dem Motto «Mitgli
 eder gewinnen und halten»\n\nDie Präsidentinnenkonferenz ist ein Anlass fü
 r alle Clubpräsidentinnen von BPW Switzerland und Gelegenheit\, das Verein
 sjahr Revue passieren zu lassen\, Inputs und Ideen für das kommende Verein
 sjahr zu erhalten und natürlich das Netzwerk zu pflegen.\n\nDer diesjährig
 e Anlass wird erweitert – Eure Bedürfnisse sind uns wichtig!\n\nClub-Präsi
 dentinnen und ihre Vorstandkolleginnen tauschen danach interaktiv ihre Ide
 en\, Wünsche und Bedürfnisse aus. Ziel ist\, dass wir\, als Zentralvorstan
 d wissen\, wie wir die Clubs effektiver unterstützen können und wie wir al
 le gemeinsam unsere Werte und Ziele noch präsenter vertreten können. Denn 
 BPW ist mehr als ein Netzwerk.\n\nEs ist ein Präsenzanlass: Wir laden Euch
 \, als Präsidentinnen mit 1-2 Vorstandsfrauen\, herzlich ins Hotel Astoria
  in Olten ein.\n\nDie Teilnahme ist für Clubpräsidentinnen und Vorstandmit
 glieder kostenlos. Nach der Konferenz geniessen wir gemeinsam ein Mittages
 sen. Die Veranstaltung dauert bis circa 14 Uhr.\n\nWir freuen uns auf euch
 !\n\nDer Zentralvorstand von BPW Switzerland\n\nDie Anmeldung ist geschlos
 sen. Für nachträgliche Anmeldungen schreibt bitte eine Email an info@bpw.c
 h\n\n\n
DTSTART:20241130T093000
DTEND:20241130T140000
ORGANIZER:MAILTO:BPW Switzerland <davos@bpw.ch>
SUMMARY:Präsidentinnenkonferenz 2024
END:VEVENT
END:VCALENDAR
