BEGIN:VCALENDAR
VERSION:2.0
PRODID:-//BPW Switzerland//NONSGML kigkonsult.se iCalcreator 2.16.12//
METHOD:PUBLISH
X-MS-OLK-FORCEINSPECTOROPEN:TRUE
BEGIN:VEVENT
UID:20260422T115034CEST-4487HamcT6@BPW Switzerland
DTSTAMP:20260422T095034Z
DESCRIPTION:Wenn man ihn sieht\, ist es zu spät.\n\nMegatrends zur Zukunfts
 gestaltung\n\nÖffentliche Veranstaltung in der Reihe 'BPW im Gespräch'\n\n
 \n\n\n \n\n \n\n\nReferentin Dr. Monique R. Siegel\n\n\n \n\nDie Zukunft i
 st der Ort\, an dem wir den Rest unseres Lebens verbringen werden. Dr. Mon
 ique R. Siegel hat sich seit Jahren an diesem Ort eingerichtet\, insbesond
 ere in der Trendforschung. Sie wird eine kompetente Begleiterin auf der sp
 annende Reise in die Zukunft sein\, auf die wir uns am 24. August 2011 gem
 einsam begeben werden. Wenn Sie mehr über die Referentin wissen wollen: ww
 w.mrsthink.com \n
DTSTART:20110824T200000
DTEND:20110824T220000
LOCATION:Davos Platz\, Kongresszentrum
ORGANIZER:MAILTO:BPW Switzerland <davos@bpw.ch>
SUMMARY:Man muss den Tiger hören!
END:VEVENT
END:VCALENDAR
