BEGIN:VCALENDAR
VERSION:2.0
PRODID:-//BPW Switzerland//NONSGML kigkonsult.se iCalcreator 2.16.12//
METHOD:PUBLISH
X-MS-OLK-FORCEINSPECTOROPEN:TRUE
BEGIN:VEVENT
UID:20260422T125533CEST-8447tS9DLW@BPW Switzerland
DTSTAMP:20260422T105533Z
DESCRIPTION:\n'Hast du Zeit?'\n\nDer aktuelle Lohnunterschied beträgt gemäs
 s der schweizerischen Lohnstrukturerhebung (2022) 12 %\, wobei BPW Switzer
 land den EPD aufgrund des Medianlohns in der Privatwirtschaft berechnen. D
 er Lohnunterschied ist illegal und läuft dem in der Bundesverfassung festg
 ehaltenen Gleichstellungsgesetz zuwider.\n\nDas Datum des Equal Pay Day än
 dert von Jahr zu Jahr\, denn es verdeutlicht den aktuellen Lohnunterschied
 . Wenn ein Mann ab dem 1. Januar 2025 sein Gehalt bekommt\, muss eine Frau
  12 % gratis arbeiten\, bis auch sie Lohn bekommt… also bis zum 15. Februa
 r 2025. \n\nDamit begehen wir den nächsten Equal Pay Day am 15. Februar 20
 25:\n\nWie jedes Jahr setzen wir dabei wiederum einen Schwerpunkt: Lohnung
 leichheit und die Ressource Zeit.\n\nMöchten Sie mehr dazu lesen? Dann kli
 cken Sie hier.\n\nZu den vielfältigen Aktionen diverser Clubs geht es hier
 .\n \n\n\n
DTSTART:20250215T000000
DTEND:20250215T235900
LOCATION:Schweizweit 
ORGANIZER:MAILTO:BPW Switzerland <davos@bpw.ch>
SUMMARY:Equal Pay Day 2025
END:VEVENT
END:VCALENDAR
