BEGIN:VCALENDAR
VERSION:2.0
PRODID:-//BPW Switzerland//NONSGML kigkonsult.se iCalcreator 2.16.12//
METHOD:PUBLISH
X-MS-OLK-FORCEINSPECTOROPEN:TRUE
BEGIN:VEVENT
UID:20260422T125406CEST-15599DUdfk@BPW Switzerland
DTSTAMP:20260422T105406Z
DESCRIPTION:\nWelcome speech: Anu Viks\, Regional Coordinator of BPW Europe
 \n\nKEY note speakers:\n \n\nMyriam Heidelberger Kaufmann\, Co-President B
 PW Switzerland\, Chair Standing Committee Legislation 2024- 2027 BPW Inter
 national\n\nLinda Herzog-Mayer\, Co-Director BPW Switzerland since 2020\n
 \nSabrina Pagnetti-Jancer has been a member of BPW since 2018\, including 
 two years as a board member of the Basel-Stadt club. Since 2020\, she has 
 also been involved as a member of the commission for the LENA project.\n\n
 Event hosted by Radmila Pinkavová Jirkovská\, Chair of Women Empowerment P
 rinciples EU Working Group.\n\nWe invite all members of BPW Europe to webi
 nar about Women’s Empowerment Principles (WEPs) where women from different
  countries share the best practices related to the WEPs implementation.\n
 \nFurther information about the event and the keynote speakers can be foun
 d here.\n\nLink to registration\n\n\n
DTSTART:20250220T180000
DTEND:20250220T200000
LOCATION:Online
ORGANIZER:MAILTO:BPW Switzerland <davos@bpw.ch>
SUMMARY:WEPs webinar: Switzerland Best Practices
END:VEVENT
END:VCALENDAR
