BEGIN:VCALENDAR
VERSION:2.0
PRODID:-//BPW Switzerland//NONSGML kigkonsult.se iCalcreator 2.16.12//
METHOD:PUBLISH
X-MS-OLK-FORCEINSPECTOROPEN:TRUE
BEGIN:VEVENT
UID:20260422T125221CEST-93171wnMMO@BPW Switzerland
DTSTAMP:20260422T105221Z
DESCRIPTION:This is an Event by BPW Club Zürich in cooperation with BPW Swi
 tzerland.\n\nThis is an official parallel event of the NGO Commission on t
 he Status of Women (CSW69/Beijing +30). This hybrid event is hosted by BPW
  Business & Professional Women Club Zurich and BPW Switzerland as part of 
 accredited NGOs of the UN ECOSOC - collaboratively organised with:\n\n\n	Al
 gorithmWatch CH\n	Female Founders Initiative Switzerland\n	intersections\n	Im
 pact Hub Zurich\n	Wikimedia CH\n	Women in Digital Switzerland\n\n\nDownload 
 here: Handout incl. speaker's bio\n\nREGISTRATION OPENS ON 14-FEBRUARY-202
 5\, 12:00 CET - CLICK HERE.\n\nVenue: Impact Hub Kraftwerk Selnaustrasse 2
 5 8001 Zürich Switzerland\, https://kraftwerk.zuerich/\n\nJoin us for an e
 ngaging evening: 'Women in Business and AI: Navigating the Gender Gap' fea
 turing female leaders exploring the intersection of technology and busines
 s. In this session event  several speakers will share their perspectives o
 n emerging AI trends\, strategies for closing gender gaps and societal imp
 acts of innovation through a female lens. Network\, learn\, and be inspire
 d!\n\nThe 40-Min Live Broadcast starts at 14.30PM EDT (New York) / 7.30PM 
 CET (Zurich).\nThe virtual participation is free via the official NGO CSW6
 9 virtual platform on the Whova app.\n\nAgenda Hybrid Event 12-March-2025:
  \n\n\n	18:00 Registration & Apéro (on-site)\n	18:30 Opening Keynote Intervi
 ew (on-site)\n	18:50 Interactive Panel (on-site)\n	19:30 Start 40-Min Live B
 roadcast (12.30PM EDT in New York)\n	-- Deep Dive Keynotes (online livestre
 am)\n	20:10 Wrap-Up (on-site)\n	20:30 Closing (on-site)\n\n\n \n\n\n	Keynote:
  Dr. Angela Müller (AlgorithmWatch CH)\n	Panel: Adelheid Moxon (Women in Di
 gital Switzerland) // Nikki Böhler (intersections) // Sheerah Kim (BPW Clu
 b Zurich)\n	Live Broadcast: Andrea Scheller (Wikimedia CH) // Léonie Kirchg
 eorg (AI Business School) - Tech & Chat moderation by Nathalie Klauser (in
 tersections)\n	Opening & Closing: Barbara Haller Rupf (BPW Switzerland) // 
 Merle Zur (Female Founders Initiative\, Impact Hub Zurich)\, Sheerah Kim (
 BPW Club Zurich)\n\n\nPre-sale for on-site tickets is available on eventfr
 og.ch: \n\nhttps://eventfrog.ch/en/p/science-and-technology/women-in-busin
 ess-and-ai-navigating-the-gender-gap-7293959116845774939.html\n \n\nThis e
 vent is 100% non-profit and the registration costs will cover the expenses
  such as the venue rent\, live broadcast and apéro. Donations will fund th
 e event apéro and are highly appreciated. With a donation CHF 50.- you'll 
 receive a symbolic thank you gift (UN Sustainable Development Goal pin).\n
 \nPlease be advised that photos will be taken at the event and used on web
 sites and social media channels of our co-hosts and organisers. If you don
 't agree with your photo being used\, please pre-inform us via e-mail (inf
 o@bpw-zuerich.ch) or at the registration desk.\n
DTSTART:20250312T180000
DTEND:20250312T203000
LOCATION:Impact Hub Kraftwerk 
ORGANIZER:MAILTO:BPW Switzerland <davos@bpw.ch>
SUMMARY:BPW Club Zürich invites you to a Special Event: NGO CSW69 Commissio
 n on the Status of Women
END:VEVENT
END:VCALENDAR
