BEGIN:VCALENDAR
VERSION:2.0
PRODID:-//BPW Switzerland//NONSGML kigkonsult.se iCalcreator 2.16.12//
METHOD:PUBLISH
X-MS-OLK-FORCEINSPECTOROPEN:TRUE
BEGIN:VEVENT
UID:20260422T125751CEST-8398bvSjRm@BPW Switzerland
DTSTAMP:20260422T105751Z
DESCRIPTION:\nYoung BPW Switzerland is partnering with Bossladies who organ
 ize this year’s International Women’s Day on the 24th of March 2025.\n\nBe
  part of this amazing event where we will talk and be inspired by the impo
 rtant topic “Master your Money”. As any BPW Event\, this event is open for
  all women interested!\n\nThis event is supporting Action for Women. All f
 unds collected will benefiting the organization. Action for Women is an At
 hens-based women’s rights organisation with an all-women team and manageme
 nt supporting refugee and asylum-seeking women’s recovery\, resilience and
  re-integration.\n\nMaster your Money: Insight to Action is organised with
  the goal to open up conversation on women in finance\, how to become part
  of the financial conversation\, how to make your voice heard on financial
  topics at home\, at work and in your community.\n\nThree amazing keynote 
 speakers will open the event:\n\nDr. MARA HARVEY\n“Take Charge of Your Fin
 ancial Future: Expert Insights for Women”\nFounder & CEO of Smart Ways to 
 Start\n\nCHIARA MANCO\n“Breaking the Chain: Empowering Women in Crypto”\nS
 WISSQUOTE - Private Client Relationship Manager\n\nAWIN TAVAKOLI\n“Network
  - Nurture - Negotiate: The Key to Personal and Professional Success”\nLaw
 yer & Business Advisor\n\nFurthermore\, roundtable speakers will allow you
  to ask questions and interact with the group directly. (! You will have t
 o register for these)\n\n1. Nadine Hunkeler - How to invest and pension pl
 an within Switzerland\n2. Cristina Jäger – 'Make your money work for you: 
 create your investment strategy in 4 simple steps'\n3. Mara Harvey - Finan
 cial Parenting 101\n4. Philip Blazdell – 'Breaking Barriers: Women Leading
  Innovation in Technology and the Evolution of Microtransactions'\n5. Clar
 a Creitz - 'Vorsorge leicht gemacht – Sichere deine Zukunft jetzt!' - DE\n
 6. Joanna Lawn - Demystifying the process of selecting a company for inves
 tment.\n\nMaster your Money is sponsored by Swissquote and Fedrok.\n\nAll 
 Information and registration here\n\nJust enter the code Friends4AFW as th
 e Access key/Zugangsschlüssel when you go to get your ticket! With the cod
 e the ticket will cost 79CHF instead of 99CHF!\n\n\nAll proceeds of the ev
 ent will go to the Swiss NGO Action for women.\n\nIf you want to participa
 te and have your BPW Friend with you reach out to Vanessa (vanessa@bpw-zue
 rich.ch) who will gather the group together.\n\n\n
DTSTART:20250324T173000
DTEND:20250324T220000
LOCATION:Resident Zürich
ORGANIZER:MAILTO:BPW Switzerland <davos@bpw.ch>
SUMMARY:Celebrating International Women's Day 2025
END:VEVENT
END:VCALENDAR
