BEGIN:VCALENDAR
VERSION:2.0
PRODID:-//BPW Switzerland//NONSGML kigkonsult.se iCalcreator 2.16.12//
METHOD:PUBLISH
X-MS-OLK-FORCEINSPECTOROPEN:TRUE
BEGIN:VEVENT
UID:20260422T115214CEST-5287DRUZNs@BPW Switzerland
DTSTAMP:20260422T095214Z
DESCRIPTION:Einführungsreferat Dorothee Schmid\nÄrztin\, Inselspital Bern (
 Pädiatrie)\nDas weibliche Gehirn\nFakten über Stärken und Schwächen der Fr
 auen\n\n \n\nProgramm\nMittwoch\, 13. April 2011\n19.00 Uhr\nHotel Strela\
 , Apéro in der Bar vor dem Seminarraum\n19.30 Uhr\nEinführungsreferat 'Das
  weibliche Gehirn'\nFakten über Stärken und Schwächen der Frauen\n20.30 Uh
 r\nEssen im Restaurant Giodavin im Hotel Strela\n\n \nMenu\n\nSpezialität
 \nCHF 29.50 bis CHF 42.50\nThe Best Cordon Bleu in Town\nSpezialität Resta
 urant Giodavin\, das individuell kreierte Cordon Bleu: Diese Spezialität i
 st zusätzlich zur Anmeldung mit separatem Formular zu kreieren und zu best
 ellen: Link zum Formular\n\nFleischmenu\nPouletgeschnetzeltes Thai mit Bas
 matireis\nNormalportion CHF 28.50\nkleine Portion CHF 24.50\n\nVegimenu\nZ
 ucchinipiccata mit Tomatenspaghetti und kleinem Salat\nNormalportion CHF 2
 8.50\nkleine Portion CHF 24.50\n\nSalatteller\nCHF 19.50\n \n\nAnmeldung\n
 \nbis Montag\, 11. April 2011\, über unser Anmeldeformular oder\nan Ursula
  Schmid per Mail\, Tel. 081 413 23 20\n\n\nBITTE BEACHTEN:\nBei Anmeldung 
 ohne Login sind am Schluss des Anmeldeformulars\ndie bunten Ziffern in das
  darunterliegende Feld zu tippen\, erst dann absenden.\nOhne Bestätigungsm
 ail ist die Anmeldung nicht registriert worden!\n
DTSTART:20110413T190000
DTEND:20110413T220000
LOCATION:Davos\, Hotel Strela und Restaurant Giodavin
ORGANIZER:MAILTO:BPW Switzerland <davos@bpw.ch>
SUMMARY:Das weibliche Gehirn
END:VEVENT
END:VCALENDAR
