BEGIN:VCALENDAR
VERSION:2.0
PRODID:-//BPW Switzerland//NONSGML kigkonsult.se iCalcreator 2.16.12//
METHOD:PUBLISH
X-MS-OLK-FORCEINSPECTOROPEN:TRUE
BEGIN:VEVENT
UID:20260422T125618CEST-7788EgkvXK@BPW Switzerland
DTSTAMP:20260422T105618Z
DESCRIPTION:\nDie organisierenden Soroptimist Davos Klosters laden ein ins 
 Hotel Central in Davos. Dort hält Annina Guyan einen Vortrag in dem sie au
 f Fünf Generationen- Fünf Frauen zurückblickt. \n\nWir treffen uns im Bünd
 ner Stübli des Hotels Central. Dauer der Veranstaltung ca. 2 – 2 1/2 Stund
 en\n
DTSTART:20250308T100000
DTEND:20250308T123000
ORGANIZER:MAILTO:BPW Switzerland <davos@bpw.ch>
SUMMARY:Internationaler Tag der Frau
END:VEVENT
END:VCALENDAR
