BEGIN:VCALENDAR
VERSION:2.0
PRODID:-//BPW Switzerland//NONSGML kigkonsult.se iCalcreator 2.16.12//
METHOD:PUBLISH
X-MS-OLK-FORCEINSPECTOROPEN:TRUE
BEGIN:VEVENT
UID:20260422T125205CEST-5488VwDrk3@BPW Switzerland
DTSTAMP:20260422T105205Z
DESCRIPTION:\nDer Zentralvorstand und die Geschäftsstelle von BPW Switzerla
 nd laden ein zur Schulung für Club-Präsident:innen!\n\nSie sind angehende 
 oder bereits gewählte Clubpräsidentin? Oder Sie möchten noch mehr über die
  Ziele von BPW und das Amt einer Club-Präsidentin erfahren?\n\nDie Schulun
 g findet dieses Jahr vor Ort auf der Geschäftsstelle von BPW Switzerland s
 tatt\, um uns allen die Gelegenheit zu geben\, Themen direkt zu diskutiere
 n und uns zu vernetzen.\n\nAb 09.15 Uhr: Eintreffen und Begrüssungskaffee
 \n09.30 Uhr: Beginn der Schulung\nCa. 12.30 Uhr: Ende der Schulung. Anschl
 iessend besteht bei einem kleinen Imbiss noch Zeit für Fragen und Austausc
 h.\n\nAdresse: Länggassstrasse 10\, 3012 Bern\n\nAn der Schulung vom 26. A
 pril 2025 sprechen wir über die Ziele und Projekte von BPW sowie über alle
  organisatorischen Fragestellungen\, die euch als Präsidentin eines unsere
 r 36 Clubs schweizweit betreffen.\n\nSprache: Die Unterlagen zur Schulung 
 werden auf Deutsch und Französisch zur Verfügung gestellt. Ansonsten gilt 
 das Prinzip: «Jede spricht in ihrer Sprache.»\n\nWir bitten um Anmeldung b
 is zum 21. April 2025.\n\nHier geht es zur Anmeldung.\n\nWer sich gerne nu
 r online dazuschalten möchte\, kann dies gerne tun und in der Anmeldung ve
 rmerken. Bei einer Teilnahme via Zoom kann die Schulung jedoch nur als Zuh
 örer:in verfolgt werden\; eine aktive Teilnahme ist ausschliesslich vor Or
 t möglich.\n\nDer Zoom-Link für diejenigen\, die nur online teilnehmen kön
 nen\, wird kurz vor der Veranstaltung versendet.\n\nWir freuen uns\, mögli
 chst viele von euch vor Ort begrüssen zu dürfen und auf einen regen Austau
 sch!\n\n\n
DTSTART:20250426T093000
DTEND:20250426T140000
ORGANIZER:MAILTO:BPW Switzerland <davos@bpw.ch>
SUMMARY:Schulung für neu gewählte Clubpräsidentinnen 
END:VEVENT
END:VCALENDAR
