BEGIN:VCALENDAR
VERSION:2.0
PRODID:-//BPW Switzerland//NONSGML kigkonsult.se iCalcreator 2.16.12//
METHOD:PUBLISH
X-MS-OLK-FORCEINSPECTOROPEN:TRUE
BEGIN:VEVENT
UID:20260422T125655CEST-8318xBbigS@BPW Switzerland
DTSTAMP:20260422T105655Z
DESCRIPTION:Der Frauenfussball gewinnt zunehmend an Bedeutung – sportlich\,
  gesellschaftlich und wirtschaftlich. Diese Entwicklung bietet besonders f
 ür Frauen in Wirtschaft und Berufsleben spannende Impulse: Leadership\, Te
 amdynamik und wirtschaftliche Nachhaltigkeit sind zentrale Themen\, die so
 wohl im Sport als auch in der Geschäftswelt entscheidend sind.\n\nBei dies
 em Podiumsgespräch erhältst du praxisnahe Einblicke in Erfolgsstrategien a
 us dem Frauenfussball\, die sich auf die Wirtschaft übertragen lassen. Wir
  alle profitieren von den Erfahrungen starker Persönlichkeiten wie Lara Di
 ckenmann\, die als Spielerin\, General Managerin und Botschafterin verschi
 edene Perspektiven vereint\, und Leevke Stutz\, die diese Grossveranstaltu
 ng strategisch mitgestaltet.\n\nNeben inspirierenden Diskussionen bietet d
 ie Veranstaltung die Möglichkeit\, wertvolle Kontakte zu knüpfen und sich 
 mit Gleichgesinnten auszutauschen. Sei dabei und nutze diese Gelegenheit\,
  um neue Impulse für deine eigene Karriere zu gewinnen!\n\nSei live mit da
 bei in der Swissporarena\, wo wir rund zweieinhalb Monate vor Anpfiff der 
 UEFA Women’s EURO auf spannende Persönlichkeiten treffen und die Vorfreude
  steigen lassen! \n\nDatum & Ort\nMittwoch\, 16. April 2025\nSwissporarena
  Luzern\, Business Lounge\, Horwerstrasse 91\, 6005 Luzern\n\nAblauf\n18:0
 0 Uhr    Türöffnung\n18:30 Uhr    Begrüssung durch wif & BPW Club Luzern\n
 18:40 Uhr    Podiumsgespräch:\n\n- Lara Dickenmann\, ehemalige Fussballspi
 elerin und Trainerin\, und heutige Botschafterin der UEFA Women's EURO 202
 5 in der Schweiz\n- Leevke Stutz\, Projektleiterin für die Fussball-EM 202
 5 der Host City Luzern\n- Seraina Degen\, Moderatorin und langjährige Begl
 eiterin des Frauen-Fussballs auf medialer Ebene (Moderation)\n\n20:15 Uhr 
    Netzwerkapéro\n22:00 Uhr    Ende der Veranstaltung\n\nKosten\nCHF 40.00
 \n\nVorauszahlung: Bitte überweise den Betrag im Voraus (bis Mi\, 08.04.20
 25) auf das Konto von BPW Club Luzern:\nLuzerner Kantonalbank IBAN CH40 00
 77 8212 5922 7200 1\nZahlungszweck «Anmeldung Podiumsgespräch UEFA Women’s
  EURO 2025\, 16.04.2025»\n\nMit der Bezahlung wird deine Anmeldung bestäti
 gt. Bitte beachte: Kurzfristige Abmeldungen nach Ablauf der Anmeldefrist m
 üssen verrechnet werden.\n\nGäste\nInteressentinnen und Gästinnen sind her
 zlich willkommen! \n\nAnmeldung\nBis Mittwoch\, 08.04.2025 unter diesem Li
 nk oder via event@bpw-luzern.ch.\n\nHinweis\nBitte lächeln :): An der Vera
 nstaltung werden Fotos gemacht\, die wir für unsere Website und Social-Med
 ia-Kanäle verwenden. Wer sich nicht fotografieren lassen möchte\, soll sic
 h bitte per Mail melden: info@bpw-luzern\n\nAnlass-Sponsoren:\nEin herzlic
 hes Dankeschön geht an unsere Sponsoren\, die diesen gemeinsamen Anlass vo
 n wif\, Wirtschaftsforum für Frauen\, und dem BPW Club Luzern möglich gema
 cht haben:\n\nBPW Switzerland \nBPW Club Uri\nBPW Club Ob-/Nidwalden\nArte
 boden\nBrauchli Holzbau\nMaler Stutz\nWinkler Livecom\n
DTSTART:20250416T180000
DTEND:20250416T220000
LOCATION:Swissporarena Luzern\, Business Lounge
ORGANIZER:MAILTO:BPW Switzerland <davos@bpw.ch>
SUMMARY:Akzeptanz und Perspektiven im Frauenfussball - Podiumsgespräch mit 
 Lara Dickenmann und Leevke Stutz\, moderiert von Seraina Degen
END:VEVENT
END:VCALENDAR
