BEGIN:VCALENDAR
VERSION:2.0
PRODID:-//BPW Switzerland//NONSGML kigkonsult.se iCalcreator 2.16.12//
METHOD:PUBLISH
X-MS-OLK-FORCEINSPECTOROPEN:TRUE
BEGIN:VEVENT
UID:20260422T125642CEST-5947PFdhgL@BPW Switzerland
DTSTAMP:20260422T105642Z
DESCRIPTION:\nBPW ist stark – lokal\, regional\, national\, international!
 \n\nZu diesem Online-Event sind alle BPW herzlich eingeladen\, die sich fü
 rs Internationale interessieren\, oder einmal hineinschnuppern möchten. Wi
 r haben zwei Highlights für euch vorbereitet:\n\nBericht vom CSW69 – Einbl
 ick in die UN-Frauenrechtskommission\n\nVera Bender\, Mitglied des Zentral
 vorstandes\, hat BPW Switzerland im März beim CSW69 (= UN-Frauenrechtskomm
 ission) in New York vertreten. Sie berichtet:\n\n\n	\n	Was ist das CSW und w
 arum ist es für Frauen sowie BPW relevant?\n	\n	\n	Welche Themen standen 2024
  im Fokus?\n	\n	\n	Wie war die Atmosphäre in New York und welche Impulse brin
 gt sie mit?\n	\n\n\nKick-Off der Arbeitsgruppe International – jetzt mitges
 talten\n\nBarbara Haller Rupf\, ebenfalls Mitglied des Zentralvorstandes\,
  stellt die neu aktivierte Arbeitsgruppe International vor.\n\n\n	\n	Was sin
 d die Ziele der Arbeitsgruppe?\n	\n	\n	Welche Aktivitäten sind geplant?\n	\n	\n
 	Wie könnt ihr euch einbringen?\n	\n\n\nZum Abschluss dieses Online-Events v
 on BPW Switzerland gibt es eine Plattform für Fragen und Austausch.\n\nSpr
 ache: Die Veranstaltung findet je nach Stand der Anmeldungen auf Deutsch o
 der Deutsch und Französisch statt. Und ansonsten gilt das bewährte Prinzip
 : Jede spricht in ihrer Sprache.\n\nWir freuen uns auf euch!\n\nWir bitten
  um Anmeldung hier\n\n\n
DTSTART:20250415T120000
DTEND:20250415T130000
LOCATION:Online via Zoom
ORGANIZER:MAILTO:BPW Switzerland <davos@bpw.ch>
SUMMARY:Update zu BPW International 
END:VEVENT
END:VCALENDAR
