BEGIN:VCALENDAR
VERSION:2.0
PRODID:-//BPW Switzerland//NONSGML kigkonsult.se iCalcreator 2.16.12//
METHOD:PUBLISH
X-MS-OLK-FORCEINSPECTOROPEN:TRUE
BEGIN:VEVENT
UID:20260422T121713CEST-6560njsvxp@BPW Switzerland
DTSTAMP:20260422T101713Z
DESCRIPTION:Einladung zum Clubabend –\noffen für Freunde und Bekannte\nDer 
 Betrieb in unserer Region\nNeu gebaut - Erweiterung Kongresszentrum Davos
 \nMittwoch\, 18. Mai 2010\, 19.00 Uhr \n \n\nMit einem mutigen Schritt wag
 ten die Davoser 1969 den Bau eines Kongresszentrums. Sukzessive wurde das 
 Gebäude in zwei weiteren Etappen erweitert und bot Davos die Möglichkeit z
 ur Entwicklung eines neuen wertschöpfungsintensiven Standbeins. 2009 wurde
 n vom Volk 37.8 Millionen für eine dritte Erweiterung des Kongresszentrums
  Davos gesprochen. Die Fläche und das Volumen haben sich damit beinahe ver
 doppelt. Bis zu 5‘000 Teilnehmerinnen und Teilnehmer können nun in perfekt
 er Infrastruktur tagen. 34 High-Tech-Säle für 20 bis1‘800 Personen stehen 
 zur Verfügung. Der grosszügige Eingangsbereich\, die Licht durchflutete Wa
 ndelhalle und die kühne\, 45 Meter überspannende Wabendecke im neuen Plena
 rsaal sind architektonische Highlights.\n\nWie hat sich das neue Kongressz
 entrum in den ersten vier Monaten bewährt? Was steckt hinter dieser ambiti
 ösen Planung und Umsetzung dieses Projekts?\n\nNutzen Sie diese Möglichkei
 t\, lassen Sie sich hinter die Kulissen führen und informieren von\n\n- Pa
 trick Waeber\, Bauleiter\, zu Architektur und Bau\, sowie\n- Markus Schied
 eck\, Sales Manager Davos Congress\, zu Verkauf\, Auslastung\, etc.\n \n\n
 \nMittwoch\, 18. Mai 2010\n19.00 Treffpunkt Kongresszentrum – Eingang Tals
 trasse\n20:30 Abendessen im Buffalo Grill (ehemals Davoserhof)\n\nEssen im
  Buffalo Grill\nMenu 1: Pouletbrüstchen 120 g mit grosser Gemüsegarnitur 2
 5.—\nMenu 2: Fisch 120 g mit grosser Gemüsegarnitur 25.—\nMenu 3: Baked Po
 tatoe mit grosser Gemüsegarnitur 25.—\n\nKosten\nDer Anlass selber ist kos
 tenlos. Essen und Getränke gehen zu Lasten der Teilnehmenden und werden di
 rekt vor Ort in bar beglichen.\n\nAnmeldung\nAnmeldung bis am Montag\, 16.
  Mai 2011\,\nüber das Anmeldeformular\, an Elsbeth Kluker\noder Tel. 081 4
 13 10 53 oder Fax 081 413 21 13\n \nBitte beachten\nBei Anmeldung ohne Log
 in sind am Schluss des Anmeldeformulars\ndie bunten Ziffern in das darunte
 rliegende Feld zu tippen\, erst dann absenden.\nOhne Bestätigungsmail ist 
 die Anmeldung nicht registriert worden!\n
DTSTART:20110518T190000
DTEND:20110518T220000
LOCATION:Davos\, Kongresshaus\, Eingang Talstrasse
ORGANIZER:MAILTO:BPW Switzerland <davos@bpw.ch>
SUMMARY:Neu gebaut - Erweiterung Kongresszentrum Davos
END:VEVENT
END:VCALENDAR
